{"text_format":"3","workbook":"xlsx","n_sheets":3,"sheets":["Table","TableProb","CPM-Deterministic"],"not_rendered":{"macros":1},"read":"whole","date_system":"1900"}

{"sheet":"Table","index":0,"n_rows":29,"n_cols":27,"rows_kept":29,"hidden":true}
["N =",{"$f":"Activities('CPM-Deterministic'!A4:C29)","v":{"$error":"#NAME?"}}]
[]
["Activity","A","B","C","D","E","F","G","H","I","J","K","L","M","N","O","P","Q","R","S","T","U","V","W","X","Y","Z"]
["A",{"$f":"PredShest('CPM-Deterministic'!$A$4:$D$29, $B$1, $A4,B$3)","v":{"$error":"#NAME?"}},{"$f":"PredShest('CPM-Deterministic'!$A$4:$D$29, $B$1, $A4,C$3)","v":{"$error":"#NAME?"}},{"$f":"PredShest('CPM-Deterministic'!$A$4:$D$29, $B$1, $A4,D$3)","v":{"$error":"#NAME?"}},{"$f":"PredShest('CPM-Deterministic'!$A$4:$D$29, $B$1, $A4,E$3)","v":{"$error":"#NAME?"}},{"$f":"PredShest('CPM-Deterministic'!$A$4:$D$29, $B$1, $A4,F$3)","v":{"$error":"#NAME?"}},{"$f":"PredShest('CPM-Deterministic'!$A$4:$D$29, $B$1, $A4,G$3)","v":{"$error":"#NAME?"}},{"$f":"PredShest('CPM-Deterministic'!$A$4:$D$29, $B$1, $A4,H$3)","v":{"$error":"#NAME?"}},{"$f":"PredShest('CPM-Deterministic'!$A$4:$D$29, $B$1, $A4,I$3)","v":{"$error":"#NAME?"}},{"$f":"PredShest('CPM-Deterministic'!$A$4:$D$29, $B$1, $A4,J$3)","v":{"$error":"#NAME?"}},{"$f":"PredShest('CPM-Deterministic'!$A$4:$D$29, $B$1, $A4,K$3)","v":{"$error":"#NAME?"}},{"$f":"PredShest('CPM-Deterministic'!$A$4:$D$29, $B$1, $A4,L$3)","v":{"$error":"#NAME?"}},{"$f":"PredShest('CPM-Deterministic'!$A$4:$D$29, $B$1, $A4,M$3)","v":{"$error":"#NAME?"}},{"$f":"PredShest('CPM-Deterministic'!$A$4:$D$29, $B$1, $A4,N$3)","v":{"$error":"#NAME?"}},{"$f":"PredShest('CPM-Deterministic'!$A$4:$D$29, $B$1, $A4,O$3)","v":{"$error":"#NAME?"}},{"$f":"PredShest('CPM-Deterministic'!$A$4:$D$29, $B$1, $A4,P$3)","v":{"$error":"#NAME?"}},{"$f":"PredShest('CPM-Deterministic'!$A$4:$D$29, $B$1, $A4,Q$3)","v":{"$error":"#NAME?"}},{"$f":"PredShest('CPM-Deterministic'!$A$4:$D$29, $B$1, $A4,R$3)","v":{"$error":"#NAME?"}},{"$f":"PredShest('CPM-Deterministic'!$A$4:$D$29, $B$1, $A4,S$3)","v":{"$error":"#NAME?"}},{"$f":"PredShest('CPM-Deterministic'!$A$4:$D$29, $B$1, $A4,T$3)","v":{"$error":"#NAME?"}},{"$f":"PredShest('CPM-Deterministic'!$A$4:$D$29, $B$1, $A4,U$3)","v":{"$error":"#NAME?"}},{"$f":"PredShest('CPM-Deterministic'!$A$4:$D$29, $B$1, $A4,V$3)","v":{"$error":"#NAME?"}},{"$f":"PredShest('CPM-Deterministic'!$A$4:$D$29, $B$1, $A4,W$3)","v":{"$error":"#NAME?"}},{"$f":"PredShest('CPM-Deterministic'!$A$4:$D$29, $B$1, $A4,X$3)","v":{"$error":"#NAME?"}},{"$f":"PredShest('CPM-Deterministic'!$A$4:$D$29, $B$1, $A4,Y$3)","v":{"$error":"#NAME?"}},{"$f":"PredShest('CPM-Deterministic'!$A$4:$D$29, $B$1, $A4,Z$3)","v":{"$error":"#NAME?"}},{"$f":"PredShest('CPM-Deterministic'!$A$4:$D$29, $B$1, $A4,AA$3)","v":{"$error":"#NAME?"}}]
["B",{"$f":"PredShest('CPM-Deterministic'!$A$4:$D$29, $B$1, $A5,B$3)","v":{"$error":"#NAME?"}},{"$f":"PredShest('CPM-Deterministic'!$A$4:$D$29, $B$1, $A5,C$3)","v":{"$error":"#NAME?"}},{"$f":"PredShest('CPM-Deterministic'!$A$4:$D$29, $B$1, $A5,D$3)","v":{"$error":"#NAME?"}},{"$f":"PredShest('CPM-Deterministic'!$A$4:$D$29, $B$1, $A5,E$3)","v":{"$error":"#NAME?"}},{"$f":"PredShest('CPM-Deterministic'!$A$4:$D$29, $B$1, $A5,F$3)","v":{"$error":"#NAME?"}},{"$f":"PredShest('CPM-Deterministic'!$A$4:$D$29, $B$1, $A5,G$3)","v":{"$error":"#NAME?"}},{"$f":"PredShest('CPM-Deterministic'!$A$4:$D$29, $B$1, $A5,H$3)","v":{"$error":"#NAME?"}},{"$f":"PredShest('CPM-Deterministic'!$A$4:$D$29, $B$1, $A5,I$3)","v":{"$error":"#NAME?"}},{"$f":"PredShest('CPM-Deterministic'!$A$4:$D$29, $B$1, $A5,J$3)","v":{"$error":"#NAME?"}},{"$f":"PredShest('CPM-Deterministic'!$A$4:$D$29, $B$1, $A5,K$3)","v":{"$error":"#NAME?"}},{"$f":"PredShest('CPM-Deterministic'!$A$4:$D$29, $B$1, $A5,L$3)","v":{"$error":"#NAME?"}},{"$f":"PredShest('CPM-Deterministic'!$A$4:$D$29, $B$1, $A5,M$3)","v":{"$error":"#NAME?"}},{"$f":"PredShest('CPM-Deterministic'!$A$4:$D$29, $B$1, $A5,N$3)","v":{"$error":"#NAME?"}},{"$f":"PredShest('CPM-Deterministic'!$A$4:$D$29, $B$1, $A5,O$3)","v":{"$error":"#NAME?"}},{"$f":"PredShest('CPM-Deterministic'!$A$4:$D$29, $B$1, $A5,P$3)","v":{"$error":"#NAME?"}},{"$f":"PredShest('CPM-Deterministic'!$A$4:$D$29, $B$1, $A5,Q$3)","v":{"$error":"#NAME?"}},{"$f":"PredShest('CPM-Deterministic'!$A$4:$D$29, $B$1, $A5,R$3)","v":{"$error":"#NAME?"}},{"$f":"PredShest('CPM-Deterministic'!$A$4:$D$29, $B$1, $A5,S$3)","v":{"$error":"#NAME?"}},{"$f":"PredShest('CPM-Deterministic'!$A$4:$D$29, $B$1, $A5,T$3)","v":{"$error":"#NAME?"}},{"$f":"PredShest('CPM-Deterministic'!$A$4:$D$29, $B$1, $A5,U$3)","v":{"$error":"#NAME?"}},{"$f":"PredShest('CPM-Deterministic'!$A$4:$D$29, $B$1, $A5,V$3)","v":{"$error":"#NAME?"}},{"$f":"PredShest('CPM-Deterministic'!$A$4:$D$29, $B$1, $A5,W$3)","v":{"$error":"#NAME?"}},{"$f":"PredShest('CPM-Deterministic'!$A$4:$D$29, $B$1, $A5,X$3)","v":{"$error":"#NAME?"}},{"$f":"PredShest('CPM-Deterministic'!$A$4:$D$29, $B$1, $A5,Y$3)","v":{"$error":"#NAME?"}},{"$f":"PredShest('CPM-Deterministic'!$A$4:$D$29, $B$1, $A5,Z$3)","v":{"$error":"#NAME?"}},{"$f":"PredShest('CPM-Deterministic'!$A$4:$D$29, $B$1, $A5,AA$3)","v":{"$error":"#NAME?"}}]
["C",{"$f":"PredShest('CPM-Deterministic'!$A$4:$D$29, $B$1, $A6,B$3)","v":{"$error":"#NAME?"}},{"$f":"PredShest('CPM-Deterministic'!$A$4:$D$29, $B$1, $A6,C$3)","v":{"$error":"#NAME?"}},{"$f":"PredShest('CPM-Deterministic'!$A$4:$D$29, $B$1, $A6,D$3)","v":{"$error":"#NAME?"}},{"$f":"PredShest('CPM-Deterministic'!$A$4:$D$29, $B$1, $A6,E$3)","v":{"$error":"#NAME?"}},{"$f":"PredShest('CPM-Deterministic'!$A$4:$D$29, $B$1, $A6,F$3)","v":{"$error":"#NAME?"}},{"$f":"PredShest('CPM-Deterministic'!$A$4:$D$29, $B$1, $A6,G$3)","v":{"$error":"#NAME?"}},{"$f":"PredShest('CPM-Deterministic'!$A$4:$D$29, $B$1, $A6,H$3)","v":{"$error":"#NAME?"}},{"$f":"PredShest('CPM-Deterministic'!$A$4:$D$29, $B$1, $A6,I$3)","v":{"$error":"#NAME?"}},{"$f":"PredShest('CPM-Deterministic'!$A$4:$D$29, $B$1, $A6,J$3)","v":{"$error":"#NAME?"}},{"$f":"PredShest('CPM-Deterministic'!$A$4:$D$29, $B$1, $A6,K$3)","v":{"$error":"#NAME?"}},{"$f":"PredShest('CPM-Deterministic'!$A$4:$D$29, $B$1, $A6,L$3)","v":{"$error":"#NAME?"}},{"$f":"PredShest('CPM-Deterministic'!$A$4:$D$29, $B$1, $A6,M$3)","v":{"$error":"#NAME?"}},{"$f":"PredShest('CPM-Deterministic'!$A$4:$D$29, $B$1, $A6,N$3)","v":{"$error":"#NAME?"}},{"$f":"PredShest('CPM-Deterministic'!$A$4:$D$29, $B$1, $A6,O$3)","v":{"$error":"#NAME?"}},{"$f":"PredShest('CPM-Deterministic'!$A$4:$D$29, $B$1, $A6,P$3)","v":{"$error":"#NAME?"}},{"$f":"PredShest('CPM-Deterministic'!$A$4:$D$29, $B$1, $A6,Q$3)","v":{"$error":"#NAME?"}},{"$f":"PredShest('CPM-Deterministic'!$A$4:$D$29, $B$1, $A6,R$3)","v":{"$error":"#NAME?"}},{"$f":"PredShest('CPM-Deterministic'!$A$4:$D$29, $B$1, $A6,S$3)","v":{"$error":"#NAME?"}},{"$f":"PredShest('CPM-Deterministic'!$A$4:$D$29, $B$1, $A6,T$3)","v":{"$error":"#NAME?"}},{"$f":"PredShest('CPM-Deterministic'!$A$4:$D$29, $B$1, $A6,U$3)","v":{"$error":"#NAME?"}},{"$f":"PredShest('CPM-Deterministic'!$A$4:$D$29, $B$1, $A6,V$3)","v":{"$error":"#NAME?"}},{"$f":"PredShest('CPM-Deterministic'!$A$4:$D$29, $B$1, $A6,W$3)","v":{"$error":"#NAME?"}},{"$f":"PredShest('CPM-Deterministic'!$A$4:$D$29, $B$1, $A6,X$3)","v":{"$error":"#NAME?"}},{"$f":"PredShest('CPM-Deterministic'!$A$4:$D$29, $B$1, $A6,Y$3)","v":{"$error":"#NAME?"}},{"$f":"PredShest('CPM-Deterministic'!$A$4:$D$29, $B$1, $A6,Z$3)","v":{"$error":"#NAME?"}},{"$f":"PredShest('CPM-Deterministic'!$A$4:$D$29, $B$1, $A6,AA$3)","v":{"$error":"#NAME?"}}]
["D",{"$f":"PredShest('CPM-Deterministic'!$A$4:$D$29, $B$1, $A7,B$3)","v":{"$error":"#NAME?"}},{"$f":"PredShest('CPM-Deterministic'!$A$4:$D$29, $B$1, $A7,C$3)","v":{"$error":"#NAME?"}},{"$f":"PredShest('CPM-Deterministic'!$A$4:$D$29, $B$1, $A7,D$3)","v":{"$error":"#NAME?"}},{"$f":"PredShest('CPM-Deterministic'!$A$4:$D$29, $B$1, $A7,E$3)","v":{"$error":"#NAME?"}},{"$f":"PredShest('CPM-Deterministic'!$A$4:$D$29, $B$1, $A7,F$3)","v":{"$error":"#NAME?"}},{"$f":"PredShest('CPM-Deterministic'!$A$4:$D$29, $B$1, $A7,G$3)","v":{"$error":"#NAME?"}},{"$f":"PredShest('CPM-Deterministic'!$A$4:$D$29, $B$1, $A7,H$3)","v":{"$error":"#NAME?"}},{"$f":"PredShest('CPM-Deterministic'!$A$4:$D$29, $B$1, $A7,I$3)","v":{"$error":"#NAME?"}},{"$f":"PredShest('CPM-Deterministic'!$A$4:$D$29, $B$1, $A7,J$3)","v":{"$error":"#NAME?"}},{"$f":"PredShest('CPM-Deterministic'!$A$4:$D$29, $B$1, $A7,K$3)","v":{"$error":"#NAME?"}},{"$f":"PredShest('CPM-Deterministic'!$A$4:$D$29, $B$1, $A7,L$3)","v":{"$error":"#NAME?"}},{"$f":"PredShest('CPM-Deterministic'!$A$4:$D$29, $B$1, $A7,M$3)","v":{"$error":"#NAME?"}},{"$f":"PredShest('CPM-Deterministic'!$A$4:$D$29, $B$1, $A7,N$3)","v":{"$error":"#NAME?"}},{"$f":"PredShest('CPM-Deterministic'!$A$4:$D$29, $B$1, $A7,O$3)","v":{"$error":"#NAME?"}},{"$f":"PredShest('CPM-Deterministic'!$A$4:$D$29, $B$1, $A7,P$3)","v":{"$error":"#NAME?"}},{"$f":"PredShest('CPM-Deterministic'!$A$4:$D$29, $B$1, $A7,Q$3)","v":{"$error":"#NAME?"}},{"$f":"PredShest('CPM-Deterministic'!$A$4:$D$29, $B$1, $A7,R$3)","v":{"$error":"#NAME?"}},{"$f":"PredShest('CPM-Deterministic'!$A$4:$D$29, $B$1, $A7,S$3)","v":{"$error":"#NAME?"}},{"$f":"PredShest('CPM-Deterministic'!$A$4:$D$29, $B$1, $A7,T$3)","v":{"$error":"#NAME?"}},{"$f":"PredShest('CPM-Deterministic'!$A$4:$D$29, $B$1, $A7,U$3)","v":{"$error":"#NAME?"}},{"$f":"PredShest('CPM-Deterministic'!$A$4:$D$29, $B$1, $A7,V$3)","v":{"$error":"#NAME?"}},{"$f":"PredShest('CPM-Deterministic'!$A$4:$D$29, $B$1, $A7,W$3)","v":{"$error":"#NAME?"}},{"$f":"PredShest('CPM-Deterministic'!$A$4:$D$29, $B$1, $A7,X$3)","v":{"$error":"#NAME?"}},{"$f":"PredShest('CPM-Deterministic'!$A$4:$D$29, $B$1, $A7,Y$3)","v":{"$error":"#NAME?"}},{"$f":"PredShest('CPM-Deterministic'!$A$4:$D$29, $B$1, $A7,Z$3)","v":{"$error":"#NAME?"}},{"$f":"PredShest('CPM-Deterministic'!$A$4:$D$29, $B$1, $A7,AA$3)","v":{"$error":"#NAME?"}}]
["E",{"$f":"PredShest('CPM-Deterministic'!$A$4:$D$29, $B$1, $A8,B$3)","v":{"$error":"#NAME?"}},{"$f":"PredShest('CPM-Deterministic'!$A$4:$D$29, $B$1, $A8,C$3)","v":{"$error":"#NAME?"}},{"$f":"PredShest('CPM-Deterministic'!$A$4:$D$29, $B$1, $A8,D$3)","v":{"$error":"#NAME?"}},{"$f":"PredShest('CPM-Deterministic'!$A$4:$D$29, $B$1, $A8,E$3)","v":{"$error":"#NAME?"}},{"$f":"PredShest('CPM-Deterministic'!$A$4:$D$29, $B$1, $A8,F$3)","v":{"$error":"#NAME?"}},{"$f":"PredShest('CPM-Deterministic'!$A$4:$D$29, $B$1, $A8,G$3)","v":{"$error":"#NAME?"}},{"$f":"PredShest('CPM-Deterministic'!$A$4:$D$29, $B$1, $A8,H$3)","v":{"$error":"#NAME?"}},{"$f":"PredShest('CPM-Deterministic'!$A$4:$D$29, $B$1, $A8,I$3)","v":{"$error":"#NAME?"}},{"$f":"PredShest('CPM-Deterministic'!$A$4:$D$29, $B$1, $A8,J$3)","v":{"$error":"#NAME?"}},{"$f":"PredShest('CPM-Deterministic'!$A$4:$D$29, $B$1, $A8,K$3)","v":{"$error":"#NAME?"}},{"$f":"PredShest('CPM-Deterministic'!$A$4:$D$29, $B$1, $A8,L$3)","v":{"$error":"#NAME?"}},{"$f":"PredShest('CPM-Deterministic'!$A$4:$D$29, $B$1, $A8,M$3)","v":{"$error":"#NAME?"}},{"$f":"PredShest('CPM-Deterministic'!$A$4:$D$29, $B$1, $A8,N$3)","v":{"$error":"#NAME?"}},{"$f":"PredShest('CPM-Deterministic'!$A$4:$D$29, $B$1, $A8,O$3)","v":{"$error":"#NAME?"}},{"$f":"PredShest('CPM-Deterministic'!$A$4:$D$29, $B$1, $A8,P$3)","v":{"$error":"#NAME?"}},{"$f":"PredShest('CPM-Deterministic'!$A$4:$D$29, $B$1, $A8,Q$3)","v":{"$error":"#NAME?"}},{"$f":"PredShest('CPM-Deterministic'!$A$4:$D$29, $B$1, $A8,R$3)","v":{"$error":"#NAME?"}},{"$f":"PredShest('CPM-Deterministic'!$A$4:$D$29, $B$1, $A8,S$3)","v":{"$error":"#NAME?"}},{"$f":"PredShest('CPM-Deterministic'!$A$4:$D$29, $B$1, $A8,T$3)","v":{"$error":"#NAME?"}},{"$f":"PredShest('CPM-Deterministic'!$A$4:$D$29, $B$1, $A8,U$3)","v":{"$error":"#NAME?"}},{"$f":"PredShest('CPM-Deterministic'!$A$4:$D$29, $B$1, $A8,V$3)","v":{"$error":"#NAME?"}},{"$f":"PredShest('CPM-Deterministic'!$A$4:$D$29, $B$1, $A8,W$3)","v":{"$error":"#NAME?"}},{"$f":"PredShest('CPM-Deterministic'!$A$4:$D$29, $B$1, $A8,X$3)","v":{"$error":"#NAME?"}},{"$f":"PredShest('CPM-Deterministic'!$A$4:$D$29, $B$1, $A8,Y$3)","v":{"$error":"#NAME?"}},{"$f":"PredShest('CPM-Deterministic'!$A$4:$D$29, $B$1, $A8,Z$3)","v":{"$error":"#NAME?"}},{"$f":"PredShest('CPM-Deterministic'!$A$4:$D$29, $B$1, $A8,AA$3)","v":{"$error":"#NAME?"}}]
["F",{"$f":"PredShest('CPM-Deterministic'!$A$4:$D$29, $B$1, $A9,B$3)","v":{"$error":"#NAME?"}},{"$f":"PredShest('CPM-Deterministic'!$A$4:$D$29, $B$1, $A9,C$3)","v":{"$error":"#NAME?"}},{"$f":"PredShest('CPM-Deterministic'!$A$4:$D$29, $B$1, $A9,D$3)","v":{"$error":"#NAME?"}},{"$f":"PredShest('CPM-Deterministic'!$A$4:$D$29, $B$1, $A9,E$3)","v":{"$error":"#NAME?"}},{"$f":"PredShest('CPM-Deterministic'!$A$4:$D$29, $B$1, $A9,F$3)","v":{"$error":"#NAME?"}},{"$f":"PredShest('CPM-Deterministic'!$A$4:$D$29, $B$1, $A9,G$3)","v":{"$error":"#NAME?"}},{"$f":"PredShest('CPM-Deterministic'!$A$4:$D$29, $B$1, $A9,H$3)","v":{"$error":"#NAME?"}},{"$f":"PredShest('CPM-Deterministic'!$A$4:$D$29, $B$1, $A9,I$3)","v":{"$error":"#NAME?"}},{"$f":"PredShest('CPM-Deterministic'!$A$4:$D$29, $B$1, $A9,J$3)","v":{"$error":"#NAME?"}},{"$f":"PredShest('CPM-Deterministic'!$A$4:$D$29, $B$1, $A9,K$3)","v":{"$error":"#NAME?"}},{"$f":"PredShest('CPM-Deterministic'!$A$4:$D$29, $B$1, $A9,L$3)","v":{"$error":"#NAME?"}},{"$f":"PredShest('CPM-Deterministic'!$A$4:$D$29, $B$1, $A9,M$3)","v":{"$error":"#NAME?"}},{"$f":"PredShest('CPM-Deterministic'!$A$4:$D$29, $B$1, $A9,N$3)","v":{"$error":"#NAME?"}},{"$f":"PredShest('CPM-Deterministic'!$A$4:$D$29, $B$1, $A9,O$3)","v":{"$error":"#NAME?"}},{"$f":"PredShest('CPM-Deterministic'!$A$4:$D$29, $B$1, $A9,P$3)","v":{"$error":"#NAME?"}},{"$f":"PredShest('CPM-Deterministic'!$A$4:$D$29, $B$1, $A9,Q$3)","v":{"$error":"#NAME?"}},{"$f":"PredShest('CPM-Deterministic'!$A$4:$D$29, $B$1, $A9,R$3)","v":{"$error":"#NAME?"}},{"$f":"PredShest('CPM-Deterministic'!$A$4:$D$29, $B$1, $A9,S$3)","v":{"$error":"#NAME?"}},{"$f":"PredShest('CPM-Deterministic'!$A$4:$D$29, $B$1, $A9,T$3)","v":{"$error":"#NAME?"}},{"$f":"PredShest('CPM-Deterministic'!$A$4:$D$29, $B$1, $A9,U$3)","v":{"$error":"#NAME?"}},{"$f":"PredShest('CPM-Deterministic'!$A$4:$D$29, $B$1, $A9,V$3)","v":{"$error":"#NAME?"}},{"$f":"PredShest('CPM-Deterministic'!$A$4:$D$29, $B$1, $A9,W$3)","v":{"$error":"#NAME?"}},{"$f":"PredShest('CPM-Deterministic'!$A$4:$D$29, $B$1, $A9,X$3)","v":{"$error":"#NAME?"}},{"$f":"PredShest('CPM-Deterministic'!$A$4:$D$29, $B$1, $A9,Y$3)","v":{"$error":"#NAME?"}},{"$f":"PredShest('CPM-Deterministic'!$A$4:$D$29, $B$1, $A9,Z$3)","v":{"$error":"#NAME?"}},{"$f":"PredShest('CPM-Deterministic'!$A$4:$D$29, $B$1, $A9,AA$3)","v":{"$error":"#NAME?"}}]
["G",{"$f":"PredShest('CPM-Deterministic'!$A$4:$D$29, $B$1, $A10,B$3)","v":{"$error":"#NAME?"}},{"$f":"PredShest('CPM-Deterministic'!$A$4:$D$29, $B$1, $A10,C$3)","v":{"$error":"#NAME?"}},{"$f":"PredShest('CPM-Deterministic'!$A$4:$D$29, $B$1, $A10,D$3)","v":{"$error":"#NAME?"}},{"$f":"PredShest('CPM-Deterministic'!$A$4:$D$29, $B$1, $A10,E$3)","v":{"$error":"#NAME?"}},{"$f":"PredShest('CPM-Deterministic'!$A$4:$D$29, $B$1, $A10,F$3)","v":{"$error":"#NAME?"}},{"$f":"PredShest('CPM-Deterministic'!$A$4:$D$29, $B$1, $A10,G$3)","v":{"$error":"#NAME?"}},{"$f":"PredShest('CPM-Deterministic'!$A$4:$D$29, $B$1, $A10,H$3)","v":{"$error":"#NAME?"}},{"$f":"PredShest('CPM-Deterministic'!$A$4:$D$29, $B$1, $A10,I$3)","v":{"$error":"#NAME?"}},{"$f":"PredShest('CPM-Deterministic'!$A$4:$D$29, $B$1, $A10,J$3)","v":{"$error":"#NAME?"}},{"$f":"PredShest('CPM-Deterministic'!$A$4:$D$29, $B$1, $A10,K$3)","v":{"$error":"#NAME?"}},{"$f":"PredShest('CPM-Deterministic'!$A$4:$D$29, $B$1, $A10,L$3)","v":{"$error":"#NAME?"}},{"$f":"PredShest('CPM-Deterministic'!$A$4:$D$29, $B$1, $A10,M$3)","v":{"$error":"#NAME?"}},{"$f":"PredShest('CPM-Deterministic'!$A$4:$D$29, $B$1, $A10,N$3)","v":{"$error":"#NAME?"}},{"$f":"PredShest('CPM-Deterministic'!$A$4:$D$29, $B$1, $A10,O$3)","v":{"$error":"#NAME?"}},{"$f":"PredShest('CPM-Deterministic'!$A$4:$D$29, $B$1, $A10,P$3)","v":{"$error":"#NAME?"}},{"$f":"PredShest('CPM-Deterministic'!$A$4:$D$29, $B$1, $A10,Q$3)","v":{"$error":"#NAME?"}},{"$f":"PredShest('CPM-Deterministic'!$A$4:$D$29, $B$1, $A10,R$3)","v":{"$error":"#NAME?"}},{"$f":"PredShest('CPM-Deterministic'!$A$4:$D$29, $B$1, $A10,S$3)","v":{"$error":"#NAME?"}},{"$f":"PredShest('CPM-Deterministic'!$A$4:$D$29, $B$1, $A10,T$3)","v":{"$error":"#NAME?"}},{"$f":"PredShest('CPM-Deterministic'!$A$4:$D$29, $B$1, $A10,U$3)","v":{"$error":"#NAME?"}},{"$f":"PredShest('CPM-Deterministic'!$A$4:$D$29, $B$1, $A10,V$3)","v":{"$error":"#NAME?"}},{"$f":"PredShest('CPM-Deterministic'!$A$4:$D$29, $B$1, $A10,W$3)","v":{"$error":"#NAME?"}},{"$f":"PredShest('CPM-Deterministic'!$A$4:$D$29, $B$1, $A10,X$3)","v":{"$error":"#NAME?"}},{"$f":"PredShest('CPM-Deterministic'!$A$4:$D$29, $B$1, $A10,Y$3)","v":{"$error":"#NAME?"}},{"$f":"PredShest('CPM-Deterministic'!$A$4:$D$29, $B$1, $A10,Z$3)","v":{"$error":"#NAME?"}},{"$f":"PredShest('CPM-Deterministic'!$A$4:$D$29, $B$1, $A10,AA$3)","v":{"$error":"#NAME?"}}]
["H",{"$f":"PredShest('CPM-Deterministic'!$A$4:$D$29, $B$1, $A11,B$3)","v":{"$error":"#NAME?"}},{"$f":"PredShest('CPM-Deterministic'!$A$4:$D$29, $B$1, $A11,C$3)","v":{"$error":"#NAME?"}},{"$f":"PredShest('CPM-Deterministic'!$A$4:$D$29, $B$1, $A11,D$3)","v":{"$error":"#NAME?"}},{"$f":"PredShest('CPM-Deterministic'!$A$4:$D$29, $B$1, $A11,E$3)","v":{"$error":"#NAME?"}},{"$f":"PredShest('CPM-Deterministic'!$A$4:$D$29, $B$1, $A11,F$3)","v":{"$error":"#NAME?"}},{"$f":"PredShest('CPM-Deterministic'!$A$4:$D$29, $B$1, $A11,G$3)","v":{"$error":"#NAME?"}},{"$f":"PredShest('CPM-Deterministic'!$A$4:$D$29, $B$1, $A11,H$3)","v":{"$error":"#NAME?"}},{"$f":"PredShest('CPM-Deterministic'!$A$4:$D$29, $B$1, $A11,I$3)","v":{"$error":"#NAME?"}},{"$f":"PredShest('CPM-Deterministic'!$A$4:$D$29, $B$1, $A11,J$3)","v":{"$error":"#NAME?"}},{"$f":"PredShest('CPM-Deterministic'!$A$4:$D$29, $B$1, $A11,K$3)","v":{"$error":"#NAME?"}},{"$f":"PredShest('CPM-Deterministic'!$A$4:$D$29, $B$1, $A11,L$3)","v":{"$error":"#NAME?"}},{"$f":"PredShest('CPM-Deterministic'!$A$4:$D$29, $B$1, $A11,M$3)","v":{"$error":"#NAME?"}},{"$f":"PredShest('CPM-Deterministic'!$A$4:$D$29, $B$1, $A11,N$3)","v":{"$error":"#NAME?"}},{"$f":"PredShest('CPM-Deterministic'!$A$4:$D$29, $B$1, $A11,O$3)","v":{"$error":"#NAME?"}},{"$f":"PredShest('CPM-Deterministic'!$A$4:$D$29, $B$1, $A11,P$3)","v":{"$error":"#NAME?"}},{"$f":"PredShest('CPM-Deterministic'!$A$4:$D$29, $B$1, $A11,Q$3)","v":{"$error":"#NAME?"}},{"$f":"PredShest('CPM-Deterministic'!$A$4:$D$29, $B$1, $A11,R$3)","v":{"$error":"#NAME?"}},{"$f":"PredShest('CPM-Deterministic'!$A$4:$D$29, $B$1, $A11,S$3)","v":{"$error":"#NAME?"}},{"$f":"PredShest('CPM-Deterministic'!$A$4:$D$29, $B$1, $A11,T$3)","v":{"$error":"#NAME?"}},{"$f":"PredShest('CPM-Deterministic'!$A$4:$D$29, $B$1, $A11,U$3)","v":{"$error":"#NAME?"}},{"$f":"PredShest('CPM-Deterministic'!$A$4:$D$29, $B$1, $A11,V$3)","v":{"$error":"#NAME?"}},{"$f":"PredShest('CPM-Deterministic'!$A$4:$D$29, $B$1, $A11,W$3)","v":{"$error":"#NAME?"}},{"$f":"PredShest('CPM-Deterministic'!$A$4:$D$29, $B$1, $A11,X$3)","v":{"$error":"#NAME?"}},{"$f":"PredShest('CPM-Deterministic'!$A$4:$D$29, $B$1, $A11,Y$3)","v":{"$error":"#NAME?"}},{"$f":"PredShest('CPM-Deterministic'!$A$4:$D$29, $B$1, $A11,Z$3)","v":{"$error":"#NAME?"}},{"$f":"PredShest('CPM-Deterministic'!$A$4:$D$29, $B$1, $A11,AA$3)","v":{"$error":"#NAME?"}}]
["I",{"$f":"PredShest('CPM-Deterministic'!$A$4:$D$29, $B$1, $A12,B$3)","v":{"$error":"#NAME?"}},{"$f":"PredShest('CPM-Deterministic'!$A$4:$D$29, $B$1, $A12,C$3)","v":{"$error":"#NAME?"}},{"$f":"PredShest('CPM-Deterministic'!$A$4:$D$29, $B$1, $A12,D$3)","v":{"$error":"#NAME?"}},{"$f":"PredShest('CPM-Deterministic'!$A$4:$D$29, $B$1, $A12,E$3)","v":{"$error":"#NAME?"}},{"$f":"PredShest('CPM-Deterministic'!$A$4:$D$29, $B$1, $A12,F$3)","v":{"$error":"#NAME?"}},{"$f":"PredShest('CPM-Deterministic'!$A$4:$D$29, $B$1, $A12,G$3)","v":{"$error":"#NAME?"}},{"$f":"PredShest('CPM-Deterministic'!$A$4:$D$29, $B$1, $A12,H$3)","v":{"$error":"#NAME?"}},{"$f":"PredShest('CPM-Deterministic'!$A$4:$D$29, $B$1, $A12,I$3)","v":{"$error":"#NAME?"}},{"$f":"PredShest('CPM-Deterministic'!$A$4:$D$29, $B$1, $A12,J$3)","v":{"$error":"#NAME?"}},{"$f":"PredShest('CPM-Deterministic'!$A$4:$D$29, $B$1, $A12,K$3)","v":{"$error":"#NAME?"}},{"$f":"PredShest('CPM-Deterministic'!$A$4:$D$29, $B$1, $A12,L$3)","v":{"$error":"#NAME?"}},{"$f":"PredShest('CPM-Deterministic'!$A$4:$D$29, $B$1, $A12,M$3)","v":{"$error":"#NAME?"}},{"$f":"PredShest('CPM-Deterministic'!$A$4:$D$29, $B$1, $A12,N$3)","v":{"$error":"#NAME?"}},{"$f":"PredShest('CPM-Deterministic'!$A$4:$D$29, $B$1, $A12,O$3)","v":{"$error":"#NAME?"}},{"$f":"PredShest('CPM-Deterministic'!$A$4:$D$29, $B$1, $A12,P$3)","v":{"$error":"#NAME?"}},{"$f":"PredShest('CPM-Deterministic'!$A$4:$D$29, $B$1, $A12,Q$3)","v":{"$error":"#NAME?"}},{"$f":"PredShest('CPM-Deterministic'!$A$4:$D$29, $B$1, $A12,R$3)","v":{"$error":"#NAME?"}},{"$f":"PredShest('CPM-Deterministic'!$A$4:$D$29, $B$1, $A12,S$3)","v":{"$error":"#NAME?"}},{"$f":"PredShest('CPM-Deterministic'!$A$4:$D$29, $B$1, $A12,T$3)","v":{"$error":"#NAME?"}},{"$f":"PredShest('CPM-Deterministic'!$A$4:$D$29, $B$1, $A12,U$3)","v":{"$error":"#NAME?"}},{"$f":"PredShest('CPM-Deterministic'!$A$4:$D$29, $B$1, $A12,V$3)","v":{"$error":"#NAME?"}},{"$f":"PredShest('CPM-Deterministic'!$A$4:$D$29, $B$1, $A12,W$3)","v":{"$error":"#NAME?"}},{"$f":"PredShest('CPM-Deterministic'!$A$4:$D$29, $B$1, $A12,X$3)","v":{"$error":"#NAME?"}},{"$f":"PredShest('CPM-Deterministic'!$A$4:$D$29, $B$1, $A12,Y$3)","v":{"$error":"#NAME?"}},{"$f":"PredShest('CPM-Deterministic'!$A$4:$D$29, $B$1, $A12,Z$3)","v":{"$error":"#NAME?"}},{"$f":"PredShest('CPM-Deterministic'!$A$4:$D$29, $B$1, $A12,AA$3)","v":{"$error":"#NAME?"}}]
["J",{"$f":"PredShest('CPM-Deterministic'!$A$4:$D$29, $B$1, $A13,B$3)","v":{"$error":"#NAME?"}},{"$f":"PredShest('CPM-Deterministic'!$A$4:$D$29, $B$1, $A13,C$3)","v":{"$error":"#NAME?"}},{"$f":"PredShest('CPM-Deterministic'!$A$4:$D$29, $B$1, $A13,D$3)","v":{"$error":"#NAME?"}},{"$f":"PredShest('CPM-Deterministic'!$A$4:$D$29, $B$1, $A13,E$3)","v":{"$error":"#NAME?"}},{"$f":"PredShest('CPM-Deterministic'!$A$4:$D$29, $B$1, $A13,F$3)","v":{"$error":"#NAME?"}},{"$f":"PredShest('CPM-Deterministic'!$A$4:$D$29, $B$1, $A13,G$3)","v":{"$error":"#NAME?"}},{"$f":"PredShest('CPM-Deterministic'!$A$4:$D$29, $B$1, $A13,H$3)","v":{"$error":"#NAME?"}},{"$f":"PredShest('CPM-Deterministic'!$A$4:$D$29, $B$1, $A13,I$3)","v":{"$error":"#NAME?"}},{"$f":"PredShest('CPM-Deterministic'!$A$4:$D$29, $B$1, $A13,J$3)","v":{"$error":"#NAME?"}},{"$f":"PredShest('CPM-Deterministic'!$A$4:$D$29, $B$1, $A13,K$3)","v":{"$error":"#NAME?"}},{"$f":"PredShest('CPM-Deterministic'!$A$4:$D$29, $B$1, $A13,L$3)","v":{"$error":"#NAME?"}},{"$f":"PredShest('CPM-Deterministic'!$A$4:$D$29, $B$1, $A13,M$3)","v":{"$error":"#NAME?"}},{"$f":"PredShest('CPM-Deterministic'!$A$4:$D$29, $B$1, $A13,N$3)","v":{"$error":"#NAME?"}},{"$f":"PredShest('CPM-Deterministic'!$A$4:$D$29, $B$1, $A13,O$3)","v":{"$error":"#NAME?"}},{"$f":"PredShest('CPM-Deterministic'!$A$4:$D$29, $B$1, $A13,P$3)","v":{"$error":"#NAME?"}},{"$f":"PredShest('CPM-Deterministic'!$A$4:$D$29, $B$1, $A13,Q$3)","v":{"$error":"#NAME?"}},{"$f":"PredShest('CPM-Deterministic'!$A$4:$D$29, $B$1, $A13,R$3)","v":{"$error":"#NAME?"}},{"$f":"PredShest('CPM-Deterministic'!$A$4:$D$29, $B$1, $A13,S$3)","v":{"$error":"#NAME?"}},{"$f":"PredShest('CPM-Deterministic'!$A$4:$D$29, $B$1, $A13,T$3)","v":{"$error":"#NAME?"}},{"$f":"PredShest('CPM-Deterministic'!$A$4:$D$29, $B$1, $A13,U$3)","v":{"$error":"#NAME?"}},{"$f":"PredShest('CPM-Deterministic'!$A$4:$D$29, $B$1, $A13,V$3)","v":{"$error":"#NAME?"}},{"$f":"PredShest('CPM-Deterministic'!$A$4:$D$29, $B$1, $A13,W$3)","v":{"$error":"#NAME?"}},{"$f":"PredShest('CPM-Deterministic'!$A$4:$D$29, $B$1, $A13,X$3)","v":{"$error":"#NAME?"}},{"$f":"PredShest('CPM-Deterministic'!$A$4:$D$29, $B$1, $A13,Y$3)","v":{"$error":"#NAME?"}},{"$f":"PredShest('CPM-Deterministic'!$A$4:$D$29, $B$1, $A13,Z$3)","v":{"$error":"#NAME?"}},{"$f":"PredShest('CPM-Deterministic'!$A$4:$D$29, $B$1, $A13,AA$3)","v":{"$error":"#NAME?"}}]
["K",{"$f":"PredShest('CPM-Deterministic'!$A$4:$D$29, $B$1, $A14,B$3)","v":{"$error":"#NAME?"}},{"$f":"PredShest('CPM-Deterministic'!$A$4:$D$29, $B$1, $A14,C$3)","v":{"$error":"#NAME?"}},{"$f":"PredShest('CPM-Deterministic'!$A$4:$D$29, $B$1, $A14,D$3)","v":{"$error":"#NAME?"}},{"$f":"PredShest('CPM-Deterministic'!$A$4:$D$29, $B$1, $A14,E$3)","v":{"$error":"#NAME?"}},{"$f":"PredShest('CPM-Deterministic'!$A$4:$D$29, $B$1, $A14,F$3)","v":{"$error":"#NAME?"}},{"$f":"PredShest('CPM-Deterministic'!$A$4:$D$29, $B$1, $A14,G$3)","v":{"$error":"#NAME?"}},{"$f":"PredShest('CPM-Deterministic'!$A$4:$D$29, $B$1, $A14,H$3)","v":{"$error":"#NAME?"}},{"$f":"PredShest('CPM-Deterministic'!$A$4:$D$29, $B$1, $A14,I$3)","v":{"$error":"#NAME?"}},{"$f":"PredShest('CPM-Deterministic'!$A$4:$D$29, $B$1, $A14,J$3)","v":{"$error":"#NAME?"}},{"$f":"PredShest('CPM-Deterministic'!$A$4:$D$29, $B$1, $A14,K$3)","v":{"$error":"#NAME?"}},{"$f":"PredShest('CPM-Deterministic'!$A$4:$D$29, $B$1, $A14,L$3)","v":{"$error":"#NAME?"}},{"$f":"PredShest('CPM-Deterministic'!$A$4:$D$29, $B$1, $A14,M$3)","v":{"$error":"#NAME?"}},{"$f":"PredShest('CPM-Deterministic'!$A$4:$D$29, $B$1, $A14,N$3)","v":{"$error":"#NAME?"}},{"$f":"PredShest('CPM-Deterministic'!$A$4:$D$29, $B$1, $A14,O$3)","v":{"$error":"#NAME?"}},{"$f":"PredShest('CPM-Deterministic'!$A$4:$D$29, $B$1, $A14,P$3)","v":{"$error":"#NAME?"}},{"$f":"PredShest('CPM-Deterministic'!$A$4:$D$29, $B$1, $A14,Q$3)","v":{"$error":"#NAME?"}},{"$f":"PredShest('CPM-Deterministic'!$A$4:$D$29, $B$1, $A14,R$3)","v":{"$error":"#NAME?"}},{"$f":"PredShest('CPM-Deterministic'!$A$4:$D$29, $B$1, $A14,S$3)","v":{"$error":"#NAME?"}},{"$f":"PredShest('CPM-Deterministic'!$A$4:$D$29, $B$1, $A14,T$3)","v":{"$error":"#NAME?"}},{"$f":"PredShest('CPM-Deterministic'!$A$4:$D$29, $B$1, $A14,U$3)","v":{"$error":"#NAME?"}},{"$f":"PredShest('CPM-Deterministic'!$A$4:$D$29, $B$1, $A14,V$3)","v":{"$error":"#NAME?"}},{"$f":"PredShest('CPM-Deterministic'!$A$4:$D$29, $B$1, $A14,W$3)","v":{"$error":"#NAME?"}},{"$f":"PredShest('CPM-Deterministic'!$A$4:$D$29, $B$1, $A14,X$3)","v":{"$error":"#NAME?"}},{"$f":"PredShest('CPM-Deterministic'!$A$4:$D$29, $B$1, $A14,Y$3)","v":{"$error":"#NAME?"}},{"$f":"PredShest('CPM-Deterministic'!$A$4:$D$29, $B$1, $A14,Z$3)","v":{"$error":"#NAME?"}},{"$f":"PredShest('CPM-Deterministic'!$A$4:$D$29, $B$1, $A14,AA$3)","v":{"$error":"#NAME?"}}]
["L",{"$f":"PredShest('CPM-Deterministic'!$A$4:$D$29, $B$1, $A15,B$3)","v":{"$error":"#NAME?"}},{"$f":"PredShest('CPM-Deterministic'!$A$4:$D$29, $B$1, $A15,C$3)","v":{"$error":"#NAME?"}},{"$f":"PredShest('CPM-Deterministic'!$A$4:$D$29, $B$1, $A15,D$3)","v":{"$error":"#NAME?"}},{"$f":"PredShest('CPM-Deterministic'!$A$4:$D$29, $B$1, $A15,E$3)","v":{"$error":"#NAME?"}},{"$f":"PredShest('CPM-Deterministic'!$A$4:$D$29, $B$1, $A15,F$3)","v":{"$error":"#NAME?"}},{"$f":"PredShest('CPM-Deterministic'!$A$4:$D$29, $B$1, $A15,G$3)","v":{"$error":"#NAME?"}},{"$f":"PredShest('CPM-Deterministic'!$A$4:$D$29, $B$1, $A15,H$3)","v":{"$error":"#NAME?"}},{"$f":"PredShest('CPM-Deterministic'!$A$4:$D$29, $B$1, $A15,I$3)","v":{"$error":"#NAME?"}},{"$f":"PredShest('CPM-Deterministic'!$A$4:$D$29, $B$1, $A15,J$3)","v":{"$error":"#NAME?"}},{"$f":"PredShest('CPM-Deterministic'!$A$4:$D$29, $B$1, $A15,K$3)","v":{"$error":"#NAME?"}},{"$f":"PredShest('CPM-Deterministic'!$A$4:$D$29, $B$1, $A15,L$3)","v":{"$error":"#NAME?"}},{"$f":"PredShest('CPM-Deterministic'!$A$4:$D$29, $B$1, $A15,M$3)","v":{"$error":"#NAME?"}},{"$f":"PredShest('CPM-Deterministic'!$A$4:$D$29, $B$1, $A15,N$3)","v":{"$error":"#NAME?"}},{"$f":"PredShest('CPM-Deterministic'!$A$4:$D$29, $B$1, $A15,O$3)","v":{"$error":"#NAME?"}},{"$f":"PredShest('CPM-Deterministic'!$A$4:$D$29, $B$1, $A15,P$3)","v":{"$error":"#NAME?"}},{"$f":"PredShest('CPM-Deterministic'!$A$4:$D$29, $B$1, $A15,Q$3)","v":{"$error":"#NAME?"}},{"$f":"PredShest('CPM-Deterministic'!$A$4:$D$29, $B$1, $A15,R$3)","v":{"$error":"#NAME?"}},{"$f":"PredShest('CPM-Deterministic'!$A$4:$D$29, $B$1, $A15,S$3)","v":{"$error":"#NAME?"}},{"$f":"PredShest('CPM-Deterministic'!$A$4:$D$29, $B$1, $A15,T$3)","v":{"$error":"#NAME?"}},{"$f":"PredShest('CPM-Deterministic'!$A$4:$D$29, $B$1, $A15,U$3)","v":{"$error":"#NAME?"}},{"$f":"PredShest('CPM-Deterministic'!$A$4:$D$29, $B$1, $A15,V$3)","v":{"$error":"#NAME?"}},{"$f":"PredShest('CPM-Deterministic'!$A$4:$D$29, $B$1, $A15,W$3)","v":{"$error":"#NAME?"}},{"$f":"PredShest('CPM-Deterministic'!$A$4:$D$29, $B$1, $A15,X$3)","v":{"$error":"#NAME?"}},{"$f":"PredShest('CPM-Deterministic'!$A$4:$D$29, $B$1, $A15,Y$3)","v":{"$error":"#NAME?"}},{"$f":"PredShest('CPM-Deterministic'!$A$4:$D$29, $B$1, $A15,Z$3)","v":{"$error":"#NAME?"}},{"$f":"PredShest('CPM-Deterministic'!$A$4:$D$29, $B$1, $A15,AA$3)","v":{"$error":"#NAME?"}}]
["M",{"$f":"PredShest('CPM-Deterministic'!$A$4:$D$29, $B$1, $A16,B$3)","v":{"$error":"#NAME?"}},{"$f":"PredShest('CPM-Deterministic'!$A$4:$D$29, $B$1, $A16,C$3)","v":{"$error":"#NAME?"}},{"$f":"PredShest('CPM-Deterministic'!$A$4:$D$29, $B$1, $A16,D$3)","v":{"$error":"#NAME?"}},{"$f":"PredShest('CPM-Deterministic'!$A$4:$D$29, $B$1, $A16,E$3)","v":{"$error":"#NAME?"}},{"$f":"PredShest('CPM-Deterministic'!$A$4:$D$29, $B$1, $A16,F$3)","v":{"$error":"#NAME?"}},{"$f":"PredShest('CPM-Deterministic'!$A$4:$D$29, $B$1, $A16,G$3)","v":{"$error":"#NAME?"}},{"$f":"PredShest('CPM-Deterministic'!$A$4:$D$29, $B$1, $A16,H$3)","v":{"$error":"#NAME?"}},{"$f":"PredShest('CPM-Deterministic'!$A$4:$D$29, $B$1, $A16,I$3)","v":{"$error":"#NAME?"}},{"$f":"PredShest('CPM-Deterministic'!$A$4:$D$29, $B$1, $A16,J$3)","v":{"$error":"#NAME?"}},{"$f":"PredShest('CPM-Deterministic'!$A$4:$D$29, $B$1, $A16,K$3)","v":{"$error":"#NAME?"}},{"$f":"PredShest('CPM-Deterministic'!$A$4:$D$29, $B$1, $A16,L$3)","v":{"$error":"#NAME?"}},{"$f":"PredShest('CPM-Deterministic'!$A$4:$D$29, $B$1, $A16,M$3)","v":{"$error":"#NAME?"}},{"$f":"PredShest('CPM-Deterministic'!$A$4:$D$29, $B$1, $A16,N$3)","v":{"$error":"#NAME?"}},{"$f":"PredShest('CPM-Deterministic'!$A$4:$D$29, $B$1, $A16,O$3)","v":{"$error":"#NAME?"}},{"$f":"PredShest('CPM-Deterministic'!$A$4:$D$29, $B$1, $A16,P$3)","v":{"$error":"#NAME?"}},{"$f":"PredShest('CPM-Deterministic'!$A$4:$D$29, $B$1, $A16,Q$3)","v":{"$error":"#NAME?"}},{"$f":"PredShest('CPM-Deterministic'!$A$4:$D$29, $B$1, $A16,R$3)","v":{"$error":"#NAME?"}},{"$f":"PredShest('CPM-Deterministic'!$A$4:$D$29, $B$1, $A16,S$3)","v":{"$error":"#NAME?"}},{"$f":"PredShest('CPM-Deterministic'!$A$4:$D$29, $B$1, $A16,T$3)","v":{"$error":"#NAME?"}},{"$f":"PredShest('CPM-Deterministic'!$A$4:$D$29, $B$1, $A16,U$3)","v":{"$error":"#NAME?"}},{"$f":"PredShest('CPM-Deterministic'!$A$4:$D$29, $B$1, $A16,V$3)","v":{"$error":"#NAME?"}},{"$f":"PredShest('CPM-Deterministic'!$A$4:$D$29, $B$1, $A16,W$3)","v":{"$error":"#NAME?"}},{"$f":"PredShest('CPM-Deterministic'!$A$4:$D$29, $B$1, $A16,X$3)","v":{"$error":"#NAME?"}},{"$f":"PredShest('CPM-Deterministic'!$A$4:$D$29, $B$1, $A16,Y$3)","v":{"$error":"#NAME?"}},{"$f":"PredShest('CPM-Deterministic'!$A$4:$D$29, $B$1, $A16,Z$3)","v":{"$error":"#NAME?"}},{"$f":"PredShest('CPM-Deterministic'!$A$4:$D$29, $B$1, $A16,AA$3)","v":{"$error":"#NAME?"}}]
["N",{"$f":"PredShest('CPM-Deterministic'!$A$4:$D$29, $B$1, $A17,B$3)","v":{"$error":"#NAME?"}},{"$f":"PredShest('CPM-Deterministic'!$A$4:$D$29, $B$1, $A17,C$3)","v":{"$error":"#NAME?"}},{"$f":"PredShest('CPM-Deterministic'!$A$4:$D$29, $B$1, $A17,D$3)","v":{"$error":"#NAME?"}},{"$f":"PredShest('CPM-Deterministic'!$A$4:$D$29, $B$1, $A17,E$3)","v":{"$error":"#NAME?"}},{"$f":"PredShest('CPM-Deterministic'!$A$4:$D$29, $B$1, $A17,F$3)","v":{"$error":"#NAME?"}},{"$f":"PredShest('CPM-Deterministic'!$A$4:$D$29, $B$1, $A17,G$3)","v":{"$error":"#NAME?"}},{"$f":"PredShest('CPM-Deterministic'!$A$4:$D$29, $B$1, $A17,H$3)","v":{"$error":"#NAME?"}},{"$f":"PredShest('CPM-Deterministic'!$A$4:$D$29, $B$1, $A17,I$3)","v":{"$error":"#NAME?"}},{"$f":"PredShest('CPM-Deterministic'!$A$4:$D$29, $B$1, $A17,J$3)","v":{"$error":"#NAME?"}},{"$f":"PredShest('CPM-Deterministic'!$A$4:$D$29, $B$1, $A17,K$3)","v":{"$error":"#NAME?"}},{"$f":"PredShest('CPM-Deterministic'!$A$4:$D$29, $B$1, $A17,L$3)","v":{"$error":"#NAME?"}},{"$f":"PredShest('CPM-Deterministic'!$A$4:$D$29, $B$1, $A17,M$3)","v":{"$error":"#NAME?"}},{"$f":"PredShest('CPM-Deterministic'!$A$4:$D$29, $B$1, $A17,N$3)","v":{"$error":"#NAME?"}},{"$f":"PredShest('CPM-Deterministic'!$A$4:$D$29, $B$1, $A17,O$3)","v":{"$error":"#NAME?"}},{"$f":"PredShest('CPM-Deterministic'!$A$4:$D$29, $B$1, $A17,P$3)","v":{"$error":"#NAME?"}},{"$f":"PredShest('CPM-Deterministic'!$A$4:$D$29, $B$1, $A17,Q$3)","v":{"$error":"#NAME?"}},{"$f":"PredShest('CPM-Deterministic'!$A$4:$D$29, $B$1, $A17,R$3)","v":{"$error":"#NAME?"}},{"$f":"PredShest('CPM-Deterministic'!$A$4:$D$29, $B$1, $A17,S$3)","v":{"$error":"#NAME?"}},{"$f":"PredShest('CPM-Deterministic'!$A$4:$D$29, $B$1, $A17,T$3)","v":{"$error":"#NAME?"}},{"$f":"PredShest('CPM-Deterministic'!$A$4:$D$29, $B$1, $A17,U$3)","v":{"$error":"#NAME?"}},{"$f":"PredShest('CPM-Deterministic'!$A$4:$D$29, $B$1, $A17,V$3)","v":{"$error":"#NAME?"}},{"$f":"PredShest('CPM-Deterministic'!$A$4:$D$29, $B$1, $A17,W$3)","v":{"$error":"#NAME?"}},{"$f":"PredShest('CPM-Deterministic'!$A$4:$D$29, $B$1, $A17,X$3)","v":{"$error":"#NAME?"}},{"$f":"PredShest('CPM-Deterministic'!$A$4:$D$29, $B$1, $A17,Y$3)","v":{"$error":"#NAME?"}},{"$f":"PredShest('CPM-Deterministic'!$A$4:$D$29, $B$1, $A17,Z$3)","v":{"$error":"#NAME?"}},{"$f":"PredShest('CPM-Deterministic'!$A$4:$D$29, $B$1, $A17,AA$3)","v":{"$error":"#NAME?"}}]
["O",{"$f":"PredShest('CPM-Deterministic'!$A$4:$D$29, $B$1, $A18,B$3)","v":{"$error":"#NAME?"}},{"$f":"PredShest('CPM-Deterministic'!$A$4:$D$29, $B$1, $A18,C$3)","v":{"$error":"#NAME?"}},{"$f":"PredShest('CPM-Deterministic'!$A$4:$D$29, $B$1, $A18,D$3)","v":{"$error":"#NAME?"}},{"$f":"PredShest('CPM-Deterministic'!$A$4:$D$29, $B$1, $A18,E$3)","v":{"$error":"#NAME?"}},{"$f":"PredShest('CPM-Deterministic'!$A$4:$D$29, $B$1, $A18,F$3)","v":{"$error":"#NAME?"}},{"$f":"PredShest('CPM-Deterministic'!$A$4:$D$29, $B$1, $A18,G$3)","v":{"$error":"#NAME?"}},{"$f":"PredShest('CPM-Deterministic'!$A$4:$D$29, $B$1, $A18,H$3)","v":{"$error":"#NAME?"}},{"$f":"PredShest('CPM-Deterministic'!$A$4:$D$29, $B$1, $A18,I$3)","v":{"$error":"#NAME?"}},{"$f":"PredShest('CPM-Deterministic'!$A$4:$D$29, $B$1, $A18,J$3)","v":{"$error":"#NAME?"}},{"$f":"PredShest('CPM-Deterministic'!$A$4:$D$29, $B$1, $A18,K$3)","v":{"$error":"#NAME?"}},{"$f":"PredShest('CPM-Deterministic'!$A$4:$D$29, $B$1, $A18,L$3)","v":{"$error":"#NAME?"}},{"$f":"PredShest('CPM-Deterministic'!$A$4:$D$29, $B$1, $A18,M$3)","v":{"$error":"#NAME?"}},{"$f":"PredShest('CPM-Deterministic'!$A$4:$D$29, $B$1, $A18,N$3)","v":{"$error":"#NAME?"}},{"$f":"PredShest('CPM-Deterministic'!$A$4:$D$29, $B$1, $A18,O$3)","v":{"$error":"#NAME?"}},{"$f":"PredShest('CPM-Deterministic'!$A$4:$D$29, $B$1, $A18,P$3)","v":{"$error":"#NAME?"}},{"$f":"PredShest('CPM-Deterministic'!$A$4:$D$29, $B$1, $A18,Q$3)","v":{"$error":"#NAME?"}},{"$f":"PredShest('CPM-Deterministic'!$A$4:$D$29, $B$1, $A18,R$3)","v":{"$error":"#NAME?"}},{"$f":"PredShest('CPM-Deterministic'!$A$4:$D$29, $B$1, $A18,S$3)","v":{"$error":"#NAME?"}},{"$f":"PredShest('CPM-Deterministic'!$A$4:$D$29, $B$1, $A18,T$3)","v":{"$error":"#NAME?"}},{"$f":"PredShest('CPM-Deterministic'!$A$4:$D$29, $B$1, $A18,U$3)","v":{"$error":"#NAME?"}},{"$f":"PredShest('CPM-Deterministic'!$A$4:$D$29, $B$1, $A18,V$3)","v":{"$error":"#NAME?"}},{"$f":"PredShest('CPM-Deterministic'!$A$4:$D$29, $B$1, $A18,W$3)","v":{"$error":"#NAME?"}},{"$f":"PredShest('CPM-Deterministic'!$A$4:$D$29, $B$1, $A18,X$3)","v":{"$error":"#NAME?"}},{"$f":"PredShest('CPM-Deterministic'!$A$4:$D$29, $B$1, $A18,Y$3)","v":{"$error":"#NAME?"}},{"$f":"PredShest('CPM-Deterministic'!$A$4:$D$29, $B$1, $A18,Z$3)","v":{"$error":"#NAME?"}},{"$f":"PredShest('CPM-Deterministic'!$A$4:$D$29, $B$1, $A18,AA$3)","v":{"$error":"#NAME?"}}]
["P",{"$f":"PredShest('CPM-Deterministic'!$A$4:$D$29, $B$1, $A19,B$3)","v":{"$error":"#NAME?"}},{"$f":"PredShest('CPM-Deterministic'!$A$4:$D$29, $B$1, $A19,C$3)","v":{"$error":"#NAME?"}},{"$f":"PredShest('CPM-Deterministic'!$A$4:$D$29, $B$1, $A19,D$3)","v":{"$error":"#NAME?"}},{"$f":"PredShest('CPM-Deterministic'!$A$4:$D$29, $B$1, $A19,E$3)","v":{"$error":"#NAME?"}},{"$f":"PredShest('CPM-Deterministic'!$A$4:$D$29, $B$1, $A19,F$3)","v":{"$error":"#NAME?"}},{"$f":"PredShest('CPM-Deterministic'!$A$4:$D$29, $B$1, $A19,G$3)","v":{"$error":"#NAME?"}},{"$f":"PredShest('CPM-Deterministic'!$A$4:$D$29, $B$1, $A19,H$3)","v":{"$error":"#NAME?"}},{"$f":"PredShest('CPM-Deterministic'!$A$4:$D$29, $B$1, $A19,I$3)","v":{"$error":"#NAME?"}},{"$f":"PredShest('CPM-Deterministic'!$A$4:$D$29, $B$1, $A19,J$3)","v":{"$error":"#NAME?"}},{"$f":"PredShest('CPM-Deterministic'!$A$4:$D$29, $B$1, $A19,K$3)","v":{"$error":"#NAME?"}},{"$f":"PredShest('CPM-Deterministic'!$A$4:$D$29, $B$1, $A19,L$3)","v":{"$error":"#NAME?"}},{"$f":"PredShest('CPM-Deterministic'!$A$4:$D$29, $B$1, $A19,M$3)","v":{"$error":"#NAME?"}},{"$f":"PredShest('CPM-Deterministic'!$A$4:$D$29, $B$1, $A19,N$3)","v":{"$error":"#NAME?"}},{"$f":"PredShest('CPM-Deterministic'!$A$4:$D$29, $B$1, $A19,O$3)","v":{"$error":"#NAME?"}},{"$f":"PredShest('CPM-Deterministic'!$A$4:$D$29, $B$1, $A19,P$3)","v":{"$error":"#NAME?"}},{"$f":"PredShest('CPM-Deterministic'!$A$4:$D$29, $B$1, $A19,Q$3)","v":{"$error":"#NAME?"}},{"$f":"PredShest('CPM-Deterministic'!$A$4:$D$29, $B$1, $A19,R$3)","v":{"$error":"#NAME?"}},{"$f":"PredShest('CPM-Deterministic'!$A$4:$D$29, $B$1, $A19,S$3)","v":{"$error":"#NAME?"}},{"$f":"PredShest('CPM-Deterministic'!$A$4:$D$29, $B$1, $A19,T$3)","v":{"$error":"#NAME?"}},{"$f":"PredShest('CPM-Deterministic'!$A$4:$D$29, $B$1, $A19,U$3)","v":{"$error":"#NAME?"}},{"$f":"PredShest('CPM-Deterministic'!$A$4:$D$29, $B$1, $A19,V$3)","v":{"$error":"#NAME?"}},{"$f":"PredShest('CPM-Deterministic'!$A$4:$D$29, $B$1, $A19,W$3)","v":{"$error":"#NAME?"}},{"$f":"PredShest('CPM-Deterministic'!$A$4:$D$29, $B$1, $A19,X$3)","v":{"$error":"#NAME?"}},{"$f":"PredShest('CPM-Deterministic'!$A$4:$D$29, $B$1, $A19,Y$3)","v":{"$error":"#NAME?"}},{"$f":"PredShest('CPM-Deterministic'!$A$4:$D$29, $B$1, $A19,Z$3)","v":{"$error":"#NAME?"}},{"$f":"PredShest('CPM-Deterministic'!$A$4:$D$29, $B$1, $A19,AA$3)","v":{"$error":"#NAME?"}}]
["Q",{"$f":"PredShest('CPM-Deterministic'!$A$4:$D$29, $B$1, $A20,B$3)","v":{"$error":"#NAME?"}},{"$f":"PredShest('CPM-Deterministic'!$A$4:$D$29, $B$1, $A20,C$3)","v":{"$error":"#NAME?"}},{"$f":"PredShest('CPM-Deterministic'!$A$4:$D$29, $B$1, $A20,D$3)","v":{"$error":"#NAME?"}},{"$f":"PredShest('CPM-Deterministic'!$A$4:$D$29, $B$1, $A20,E$3)","v":{"$error":"#NAME?"}},{"$f":"PredShest('CPM-Deterministic'!$A$4:$D$29, $B$1, $A20,F$3)","v":{"$error":"#NAME?"}},{"$f":"PredShest('CPM-Deterministic'!$A$4:$D$29, $B$1, $A20,G$3)","v":{"$error":"#NAME?"}},{"$f":"PredShest('CPM-Deterministic'!$A$4:$D$29, $B$1, $A20,H$3)","v":{"$error":"#NAME?"}},{"$f":"PredShest('CPM-Deterministic'!$A$4:$D$29, $B$1, $A20,I$3)","v":{"$error":"#NAME?"}},{"$f":"PredShest('CPM-Deterministic'!$A$4:$D$29, $B$1, $A20,J$3)","v":{"$error":"#NAME?"}},{"$f":"PredShest('CPM-Deterministic'!$A$4:$D$29, $B$1, $A20,K$3)","v":{"$error":"#NAME?"}},{"$f":"PredShest('CPM-Deterministic'!$A$4:$D$29, $B$1, $A20,L$3)","v":{"$error":"#NAME?"}},{"$f":"PredShest('CPM-Deterministic'!$A$4:$D$29, $B$1, $A20,M$3)","v":{"$error":"#NAME?"}},{"$f":"PredShest('CPM-Deterministic'!$A$4:$D$29, $B$1, $A20,N$3)","v":{"$error":"#NAME?"}},{"$f":"PredShest('CPM-Deterministic'!$A$4:$D$29, $B$1, $A20,O$3)","v":{"$error":"#NAME?"}},{"$f":"PredShest('CPM-Deterministic'!$A$4:$D$29, $B$1, $A20,P$3)","v":{"$error":"#NAME?"}},{"$f":"PredShest('CPM-Deterministic'!$A$4:$D$29, $B$1, $A20,Q$3)","v":{"$error":"#NAME?"}},{"$f":"PredShest('CPM-Deterministic'!$A$4:$D$29, $B$1, $A20,R$3)","v":{"$error":"#NAME?"}},{"$f":"PredShest('CPM-Deterministic'!$A$4:$D$29, $B$1, $A20,S$3)","v":{"$error":"#NAME?"}},{"$f":"PredShest('CPM-Deterministic'!$A$4:$D$29, $B$1, $A20,T$3)","v":{"$error":"#NAME?"}},{"$f":"PredShest('CPM-Deterministic'!$A$4:$D$29, $B$1, $A20,U$3)","v":{"$error":"#NAME?"}},{"$f":"PredShest('CPM-Deterministic'!$A$4:$D$29, $B$1, $A20,V$3)","v":{"$error":"#NAME?"}},{"$f":"PredShest('CPM-Deterministic'!$A$4:$D$29, $B$1, $A20,W$3)","v":{"$error":"#NAME?"}},{"$f":"PredShest('CPM-Deterministic'!$A$4:$D$29, $B$1, $A20,X$3)","v":{"$error":"#NAME?"}},{"$f":"PredShest('CPM-Deterministic'!$A$4:$D$29, $B$1, $A20,Y$3)","v":{"$error":"#NAME?"}},{"$f":"PredShest('CPM-Deterministic'!$A$4:$D$29, $B$1, $A20,Z$3)","v":{"$error":"#NAME?"}},{"$f":"PredShest('CPM-Deterministic'!$A$4:$D$29, $B$1, $A20,AA$3)","v":{"$error":"#NAME?"}}]
["R",{"$f":"PredShest('CPM-Deterministic'!$A$4:$D$29, $B$1, $A21,B$3)","v":{"$error":"#NAME?"}},{"$f":"PredShest('CPM-Deterministic'!$A$4:$D$29, $B$1, $A21,C$3)","v":{"$error":"#NAME?"}},{"$f":"PredShest('CPM-Deterministic'!$A$4:$D$29, $B$1, $A21,D$3)","v":{"$error":"#NAME?"}},{"$f":"PredShest('CPM-Deterministic'!$A$4:$D$29, $B$1, $A21,E$3)","v":{"$error":"#NAME?"}},{"$f":"PredShest('CPM-Deterministic'!$A$4:$D$29, $B$1, $A21,F$3)","v":{"$error":"#NAME?"}},{"$f":"PredShest('CPM-Deterministic'!$A$4:$D$29, $B$1, $A21,G$3)","v":{"$error":"#NAME?"}},{"$f":"PredShest('CPM-Deterministic'!$A$4:$D$29, $B$1, $A21,H$3)","v":{"$error":"#NAME?"}},{"$f":"PredShest('CPM-Deterministic'!$A$4:$D$29, $B$1, $A21,I$3)","v":{"$error":"#NAME?"}},{"$f":"PredShest('CPM-Deterministic'!$A$4:$D$29, $B$1, $A21,J$3)","v":{"$error":"#NAME?"}},{"$f":"PredShest('CPM-Deterministic'!$A$4:$D$29, $B$1, $A21,K$3)","v":{"$error":"#NAME?"}},{"$f":"PredShest('CPM-Deterministic'!$A$4:$D$29, $B$1, $A21,L$3)","v":{"$error":"#NAME?"}},{"$f":"PredShest('CPM-Deterministic'!$A$4:$D$29, $B$1, $A21,M$3)","v":{"$error":"#NAME?"}},{"$f":"PredShest('CPM-Deterministic'!$A$4:$D$29, $B$1, $A21,N$3)","v":{"$error":"#NAME?"}},{"$f":"PredShest('CPM-Deterministic'!$A$4:$D$29, $B$1, $A21,O$3)","v":{"$error":"#NAME?"}},{"$f":"PredShest('CPM-Deterministic'!$A$4:$D$29, $B$1, $A21,P$3)","v":{"$error":"#NAME?"}},{"$f":"PredShest('CPM-Deterministic'!$A$4:$D$29, $B$1, $A21,Q$3)","v":{"$error":"#NAME?"}},{"$f":"PredShest('CPM-Deterministic'!$A$4:$D$29, $B$1, $A21,R$3)","v":{"$error":"#NAME?"}},{"$f":"PredShest('CPM-Deterministic'!$A$4:$D$29, $B$1, $A21,S$3)","v":{"$error":"#NAME?"}},{"$f":"PredShest('CPM-Deterministic'!$A$4:$D$29, $B$1, $A21,T$3)","v":{"$error":"#NAME?"}},{"$f":"PredShest('CPM-Deterministic'!$A$4:$D$29, $B$1, $A21,U$3)","v":{"$error":"#NAME?"}},{"$f":"PredShest('CPM-Deterministic'!$A$4:$D$29, $B$1, $A21,V$3)","v":{"$error":"#NAME?"}},{"$f":"PredShest('CPM-Deterministic'!$A$4:$D$29, $B$1, $A21,W$3)","v":{"$error":"#NAME?"}},{"$f":"PredShest('CPM-Deterministic'!$A$4:$D$29, $B$1, $A21,X$3)","v":{"$error":"#NAME?"}},{"$f":"PredShest('CPM-Deterministic'!$A$4:$D$29, $B$1, $A21,Y$3)","v":{"$error":"#NAME?"}},{"$f":"PredShest('CPM-Deterministic'!$A$4:$D$29, $B$1, $A21,Z$3)","v":{"$error":"#NAME?"}},{"$f":"PredShest('CPM-Deterministic'!$A$4:$D$29, $B$1, $A21,AA$3)","v":{"$error":"#NAME?"}}]
["S",{"$f":"PredShest('CPM-Deterministic'!$A$4:$D$29, $B$1, $A22,B$3)","v":{"$error":"#NAME?"}},{"$f":"PredShest('CPM-Deterministic'!$A$4:$D$29, $B$1, $A22,C$3)","v":{"$error":"#NAME?"}},{"$f":"PredShest('CPM-Deterministic'!$A$4:$D$29, $B$1, $A22,D$3)","v":{"$error":"#NAME?"}},{"$f":"PredShest('CPM-Deterministic'!$A$4:$D$29, $B$1, $A22,E$3)","v":{"$error":"#NAME?"}},{"$f":"PredShest('CPM-Deterministic'!$A$4:$D$29, $B$1, $A22,F$3)","v":{"$error":"#NAME?"}},{"$f":"PredShest('CPM-Deterministic'!$A$4:$D$29, $B$1, $A22,G$3)","v":{"$error":"#NAME?"}},{"$f":"PredShest('CPM-Deterministic'!$A$4:$D$29, $B$1, $A22,H$3)","v":{"$error":"#NAME?"}},{"$f":"PredShest('CPM-Deterministic'!$A$4:$D$29, $B$1, $A22,I$3)","v":{"$error":"#NAME?"}},{"$f":"PredShest('CPM-Deterministic'!$A$4:$D$29, $B$1, $A22,J$3)","v":{"$error":"#NAME?"}},{"$f":"PredShest('CPM-Deterministic'!$A$4:$D$29, $B$1, $A22,K$3)","v":{"$error":"#NAME?"}},{"$f":"PredShest('CPM-Deterministic'!$A$4:$D$29, $B$1, $A22,L$3)","v":{"$error":"#NAME?"}},{"$f":"PredShest('CPM-Deterministic'!$A$4:$D$29, $B$1, $A22,M$3)","v":{"$error":"#NAME?"}},{"$f":"PredShest('CPM-Deterministic'!$A$4:$D$29, $B$1, $A22,N$3)","v":{"$error":"#NAME?"}},{"$f":"PredShest('CPM-Deterministic'!$A$4:$D$29, $B$1, $A22,O$3)","v":{"$error":"#NAME?"}},{"$f":"PredShest('CPM-Deterministic'!$A$4:$D$29, $B$1, $A22,P$3)","v":{"$error":"#NAME?"}},{"$f":"PredShest('CPM-Deterministic'!$A$4:$D$29, $B$1, $A22,Q$3)","v":{"$error":"#NAME?"}},{"$f":"PredShest('CPM-Deterministic'!$A$4:$D$29, $B$1, $A22,R$3)","v":{"$error":"#NAME?"}},{"$f":"PredShest('CPM-Deterministic'!$A$4:$D$29, $B$1, $A22,S$3)","v":{"$error":"#NAME?"}},{"$f":"PredShest('CPM-Deterministic'!$A$4:$D$29, $B$1, $A22,T$3)","v":{"$error":"#NAME?"}},{"$f":"PredShest('CPM-Deterministic'!$A$4:$D$29, $B$1, $A22,U$3)","v":{"$error":"#NAME?"}},{"$f":"PredShest('CPM-Deterministic'!$A$4:$D$29, $B$1, $A22,V$3)","v":{"$error":"#NAME?"}},{"$f":"PredShest('CPM-Deterministic'!$A$4:$D$29, $B$1, $A22,W$3)","v":{"$error":"#NAME?"}},{"$f":"PredShest('CPM-Deterministic'!$A$4:$D$29, $B$1, $A22,X$3)","v":{"$error":"#NAME?"}},{"$f":"PredShest('CPM-Deterministic'!$A$4:$D$29, $B$1, $A22,Y$3)","v":{"$error":"#NAME?"}},{"$f":"PredShest('CPM-Deterministic'!$A$4:$D$29, $B$1, $A22,Z$3)","v":{"$error":"#NAME?"}},{"$f":"PredShest('CPM-Deterministic'!$A$4:$D$29, $B$1, $A22,AA$3)","v":{"$error":"#NAME?"}}]
["T",{"$f":"PredShest('CPM-Deterministic'!$A$4:$D$29, $B$1, $A23,B$3)","v":{"$error":"#NAME?"}},{"$f":"PredShest('CPM-Deterministic'!$A$4:$D$29, $B$1, $A23,C$3)","v":{"$error":"#NAME?"}},{"$f":"PredShest('CPM-Deterministic'!$A$4:$D$29, $B$1, $A23,D$3)","v":{"$error":"#NAME?"}},{"$f":"PredShest('CPM-Deterministic'!$A$4:$D$29, $B$1, $A23,E$3)","v":{"$error":"#NAME?"}},{"$f":"PredShest('CPM-Deterministic'!$A$4:$D$29, $B$1, $A23,F$3)","v":{"$error":"#NAME?"}},{"$f":"PredShest('CPM-Deterministic'!$A$4:$D$29, $B$1, $A23,G$3)","v":{"$error":"#NAME?"}},{"$f":"PredShest('CPM-Deterministic'!$A$4:$D$29, $B$1, $A23,H$3)","v":{"$error":"#NAME?"}},{"$f":"PredShest('CPM-Deterministic'!$A$4:$D$29, $B$1, $A23,I$3)","v":{"$error":"#NAME?"}},{"$f":"PredShest('CPM-Deterministic'!$A$4:$D$29, $B$1, $A23,J$3)","v":{"$error":"#NAME?"}},{"$f":"PredShest('CPM-Deterministic'!$A$4:$D$29, $B$1, $A23,K$3)","v":{"$error":"#NAME?"}},{"$f":"PredShest('CPM-Deterministic'!$A$4:$D$29, $B$1, $A23,L$3)","v":{"$error":"#NAME?"}},{"$f":"PredShest('CPM-Deterministic'!$A$4:$D$29, $B$1, $A23,M$3)","v":{"$error":"#NAME?"}},{"$f":"PredShest('CPM-Deterministic'!$A$4:$D$29, $B$1, $A23,N$3)","v":{"$error":"#NAME?"}},{"$f":"PredShest('CPM-Deterministic'!$A$4:$D$29, $B$1, $A23,O$3)","v":{"$error":"#NAME?"}},{"$f":"PredShest('CPM-Deterministic'!$A$4:$D$29, $B$1, $A23,P$3)","v":{"$error":"#NAME?"}},{"$f":"PredShest('CPM-Deterministic'!$A$4:$D$29, $B$1, $A23,Q$3)","v":{"$error":"#NAME?"}},{"$f":"PredShest('CPM-Deterministic'!$A$4:$D$29, $B$1, $A23,R$3)","v":{"$error":"#NAME?"}},{"$f":"PredShest('CPM-Deterministic'!$A$4:$D$29, $B$1, $A23,S$3)","v":{"$error":"#NAME?"}},{"$f":"PredShest('CPM-Deterministic'!$A$4:$D$29, $B$1, $A23,T$3)","v":{"$error":"#NAME?"}},{"$f":"PredShest('CPM-Deterministic'!$A$4:$D$29, $B$1, $A23,U$3)","v":{"$error":"#NAME?"}},{"$f":"PredShest('CPM-Deterministic'!$A$4:$D$29, $B$1, $A23,V$3)","v":{"$error":"#NAME?"}},{"$f":"PredShest('CPM-Deterministic'!$A$4:$D$29, $B$1, $A23,W$3)","v":{"$error":"#NAME?"}},{"$f":"PredShest('CPM-Deterministic'!$A$4:$D$29, $B$1, $A23,X$3)","v":{"$error":"#NAME?"}},{"$f":"PredShest('CPM-Deterministic'!$A$4:$D$29, $B$1, $A23,Y$3)","v":{"$error":"#NAME?"}},{"$f":"PredShest('CPM-Deterministic'!$A$4:$D$29, $B$1, $A23,Z$3)","v":{"$error":"#NAME?"}},{"$f":"PredShest('CPM-Deterministic'!$A$4:$D$29, $B$1, $A23,AA$3)","v":{"$error":"#NAME?"}}]
["U",{"$f":"PredShest('CPM-Deterministic'!$A$4:$D$29, $B$1, $A24,B$3)","v":{"$error":"#NAME?"}},{"$f":"PredShest('CPM-Deterministic'!$A$4:$D$29, $B$1, $A24,C$3)","v":{"$error":"#NAME?"}},{"$f":"PredShest('CPM-Deterministic'!$A$4:$D$29, $B$1, $A24,D$3)","v":{"$error":"#NAME?"}},{"$f":"PredShest('CPM-Deterministic'!$A$4:$D$29, $B$1, $A24,E$3)","v":{"$error":"#NAME?"}},{"$f":"PredShest('CPM-Deterministic'!$A$4:$D$29, $B$1, $A24,F$3)","v":{"$error":"#NAME?"}},{"$f":"PredShest('CPM-Deterministic'!$A$4:$D$29, $B$1, $A24,G$3)","v":{"$error":"#NAME?"}},{"$f":"PredShest('CPM-Deterministic'!$A$4:$D$29, $B$1, $A24,H$3)","v":{"$error":"#NAME?"}},{"$f":"PredShest('CPM-Deterministic'!$A$4:$D$29, $B$1, $A24,I$3)","v":{"$error":"#NAME?"}},{"$f":"PredShest('CPM-Deterministic'!$A$4:$D$29, $B$1, $A24,J$3)","v":{"$error":"#NAME?"}},{"$f":"PredShest('CPM-Deterministic'!$A$4:$D$29, $B$1, $A24,K$3)","v":{"$error":"#NAME?"}},{"$f":"PredShest('CPM-Deterministic'!$A$4:$D$29, $B$1, $A24,L$3)","v":{"$error":"#NAME?"}},{"$f":"PredShest('CPM-Deterministic'!$A$4:$D$29, $B$1, $A24,M$3)","v":{"$error":"#NAME?"}},{"$f":"PredShest('CPM-Deterministic'!$A$4:$D$29, $B$1, $A24,N$3)","v":{"$error":"#NAME?"}},{"$f":"PredShest('CPM-Deterministic'!$A$4:$D$29, $B$1, $A24,O$3)","v":{"$error":"#NAME?"}},{"$f":"PredShest('CPM-Deterministic'!$A$4:$D$29, $B$1, $A24,P$3)","v":{"$error":"#NAME?"}},{"$f":"PredShest('CPM-Deterministic'!$A$4:$D$29, $B$1, $A24,Q$3)","v":{"$error":"#NAME?"}},{"$f":"PredShest('CPM-Deterministic'!$A$4:$D$29, $B$1, $A24,R$3)","v":{"$error":"#NAME?"}},{"$f":"PredShest('CPM-Deterministic'!$A$4:$D$29, $B$1, $A24,S$3)","v":{"$error":"#NAME?"}},{"$f":"PredShest('CPM-Deterministic'!$A$4:$D$29, $B$1, $A24,T$3)","v":{"$error":"#NAME?"}},{"$f":"PredShest('CPM-Deterministic'!$A$4:$D$29, $B$1, $A24,U$3)","v":{"$error":"#NAME?"}},{"$f":"PredShest('CPM-Deterministic'!$A$4:$D$29, $B$1, $A24,V$3)","v":{"$error":"#NAME?"}},{"$f":"PredShest('CPM-Deterministic'!$A$4:$D$29, $B$1, $A24,W$3)","v":{"$error":"#NAME?"}},{"$f":"PredShest('CPM-Deterministic'!$A$4:$D$29, $B$1, $A24,X$3)","v":{"$error":"#NAME?"}},{"$f":"PredShest('CPM-Deterministic'!$A$4:$D$29, $B$1, $A24,Y$3)","v":{"$error":"#NAME?"}},{"$f":"PredShest('CPM-Deterministic'!$A$4:$D$29, $B$1, $A24,Z$3)","v":{"$error":"#NAME?"}},{"$f":"PredShest('CPM-Deterministic'!$A$4:$D$29, $B$1, $A24,AA$3)","v":{"$error":"#NAME?"}}]
["V",{"$f":"PredShest('CPM-Deterministic'!$A$4:$D$29, $B$1, $A25,B$3)","v":{"$error":"#NAME?"}},{"$f":"PredShest('CPM-Deterministic'!$A$4:$D$29, $B$1, $A25,C$3)","v":{"$error":"#NAME?"}},{"$f":"PredShest('CPM-Deterministic'!$A$4:$D$29, $B$1, $A25,D$3)","v":{"$error":"#NAME?"}},{"$f":"PredShest('CPM-Deterministic'!$A$4:$D$29, $B$1, $A25,E$3)","v":{"$error":"#NAME?"}},{"$f":"PredShest('CPM-Deterministic'!$A$4:$D$29, $B$1, $A25,F$3)","v":{"$error":"#NAME?"}},{"$f":"PredShest('CPM-Deterministic'!$A$4:$D$29, $B$1, $A25,G$3)","v":{"$error":"#NAME?"}},{"$f":"PredShest('CPM-Deterministic'!$A$4:$D$29, $B$1, $A25,H$3)","v":{"$error":"#NAME?"}},{"$f":"PredShest('CPM-Deterministic'!$A$4:$D$29, $B$1, $A25,I$3)","v":{"$error":"#NAME?"}},{"$f":"PredShest('CPM-Deterministic'!$A$4:$D$29, $B$1, $A25,J$3)","v":{"$error":"#NAME?"}},{"$f":"PredShest('CPM-Deterministic'!$A$4:$D$29, $B$1, $A25,K$3)","v":{"$error":"#NAME?"}},{"$f":"PredShest('CPM-Deterministic'!$A$4:$D$29, $B$1, $A25,L$3)","v":{"$error":"#NAME?"}},{"$f":"PredShest('CPM-Deterministic'!$A$4:$D$29, $B$1, $A25,M$3)","v":{"$error":"#NAME?"}},{"$f":"PredShest('CPM-Deterministic'!$A$4:$D$29, $B$1, $A25,N$3)","v":{"$error":"#NAME?"}},{"$f":"PredShest('CPM-Deterministic'!$A$4:$D$29, $B$1, $A25,O$3)","v":{"$error":"#NAME?"}},{"$f":"PredShest('CPM-Deterministic'!$A$4:$D$29, $B$1, $A25,P$3)","v":{"$error":"#NAME?"}},{"$f":"PredShest('CPM-Deterministic'!$A$4:$D$29, $B$1, $A25,Q$3)","v":{"$error":"#NAME?"}},{"$f":"PredShest('CPM-Deterministic'!$A$4:$D$29, $B$1, $A25,R$3)","v":{"$error":"#NAME?"}},{"$f":"PredShest('CPM-Deterministic'!$A$4:$D$29, $B$1, $A25,S$3)","v":{"$error":"#NAME?"}},{"$f":"PredShest('CPM-Deterministic'!$A$4:$D$29, $B$1, $A25,T$3)","v":{"$error":"#NAME?"}},{"$f":"PredShest('CPM-Deterministic'!$A$4:$D$29, $B$1, $A25,U$3)","v":{"$error":"#NAME?"}},{"$f":"PredShest('CPM-Deterministic'!$A$4:$D$29, $B$1, $A25,V$3)","v":{"$error":"#NAME?"}},{"$f":"PredShest('CPM-Deterministic'!$A$4:$D$29, $B$1, $A25,W$3)","v":{"$error":"#NAME?"}},{"$f":"PredShest('CPM-Deterministic'!$A$4:$D$29, $B$1, $A25,X$3)","v":{"$error":"#NAME?"}},{"$f":"PredShest('CPM-Deterministic'!$A$4:$D$29, $B$1, $A25,Y$3)","v":{"$error":"#NAME?"}},{"$f":"PredShest('CPM-Deterministic'!$A$4:$D$29, $B$1, $A25,Z$3)","v":{"$error":"#NAME?"}},{"$f":"PredShest('CPM-Deterministic'!$A$4:$D$29, $B$1, $A25,AA$3)","v":{"$error":"#NAME?"}}]
["W",{"$f":"PredShest('CPM-Deterministic'!$A$4:$D$29, $B$1, $A26,B$3)","v":{"$error":"#NAME?"}},{"$f":"PredShest('CPM-Deterministic'!$A$4:$D$29, $B$1, $A26,C$3)","v":{"$error":"#NAME?"}},{"$f":"PredShest('CPM-Deterministic'!$A$4:$D$29, $B$1, $A26,D$3)","v":{"$error":"#NAME?"}},{"$f":"PredShest('CPM-Deterministic'!$A$4:$D$29, $B$1, $A26,E$3)","v":{"$error":"#NAME?"}},{"$f":"PredShest('CPM-Deterministic'!$A$4:$D$29, $B$1, $A26,F$3)","v":{"$error":"#NAME?"}},{"$f":"PredShest('CPM-Deterministic'!$A$4:$D$29, $B$1, $A26,G$3)","v":{"$error":"#NAME?"}},{"$f":"PredShest('CPM-Deterministic'!$A$4:$D$29, $B$1, $A26,H$3)","v":{"$error":"#NAME?"}},{"$f":"PredShest('CPM-Deterministic'!$A$4:$D$29, $B$1, $A26,I$3)","v":{"$error":"#NAME?"}},{"$f":"PredShest('CPM-Deterministic'!$A$4:$D$29, $B$1, $A26,J$3)","v":{"$error":"#NAME?"}},{"$f":"PredShest('CPM-Deterministic'!$A$4:$D$29, $B$1, $A26,K$3)","v":{"$error":"#NAME?"}},{"$f":"PredShest('CPM-Deterministic'!$A$4:$D$29, $B$1, $A26,L$3)","v":{"$error":"#NAME?"}},{"$f":"PredShest('CPM-Deterministic'!$A$4:$D$29, $B$1, $A26,M$3)","v":{"$error":"#NAME?"}},{"$f":"PredShest('CPM-Deterministic'!$A$4:$D$29, $B$1, $A26,N$3)","v":{"$error":"#NAME?"}},{"$f":"PredShest('CPM-Deterministic'!$A$4:$D$29, $B$1, $A26,O$3)","v":{"$error":"#NAME?"}},{"$f":"PredShest('CPM-Deterministic'!$A$4:$D$29, $B$1, $A26,P$3)","v":{"$error":"#NAME?"}},{"$f":"PredShest('CPM-Deterministic'!$A$4:$D$29, $B$1, $A26,Q$3)","v":{"$error":"#NAME?"}},{"$f":"PredShest('CPM-Deterministic'!$A$4:$D$29, $B$1, $A26,R$3)","v":{"$error":"#NAME?"}},{"$f":"PredShest('CPM-Deterministic'!$A$4:$D$29, $B$1, $A26,S$3)","v":{"$error":"#NAME?"}},{"$f":"PredShest('CPM-Deterministic'!$A$4:$D$29, $B$1, $A26,T$3)","v":{"$error":"#NAME?"}},{"$f":"PredShest('CPM-Deterministic'!$A$4:$D$29, $B$1, $A26,U$3)","v":{"$error":"#NAME?"}},{"$f":"PredShest('CPM-Deterministic'!$A$4:$D$29, $B$1, $A26,V$3)","v":{"$error":"#NAME?"}},{"$f":"PredShest('CPM-Deterministic'!$A$4:$D$29, $B$1, $A26,W$3)","v":{"$error":"#NAME?"}},{"$f":"PredShest('CPM-Deterministic'!$A$4:$D$29, $B$1, $A26,X$3)","v":{"$error":"#NAME?"}},{"$f":"PredShest('CPM-Deterministic'!$A$4:$D$29, $B$1, $A26,Y$3)","v":{"$error":"#NAME?"}},{"$f":"PredShest('CPM-Deterministic'!$A$4:$D$29, $B$1, $A26,Z$3)","v":{"$error":"#NAME?"}},{"$f":"PredShest('CPM-Deterministic'!$A$4:$D$29, $B$1, $A26,AA$3)","v":{"$error":"#NAME?"}}]
["X",{"$f":"PredShest('CPM-Deterministic'!$A$4:$D$29, $B$1, $A27,B$3)","v":{"$error":"#NAME?"}},{"$f":"PredShest('CPM-Deterministic'!$A$4:$D$29, $B$1, $A27,C$3)","v":{"$error":"#NAME?"}},{"$f":"PredShest('CPM-Deterministic'!$A$4:$D$29, $B$1, $A27,D$3)","v":{"$error":"#NAME?"}},{"$f":"PredShest('CPM-Deterministic'!$A$4:$D$29, $B$1, $A27,E$3)","v":{"$error":"#NAME?"}},{"$f":"PredShest('CPM-Deterministic'!$A$4:$D$29, $B$1, $A27,F$3)","v":{"$error":"#NAME?"}},{"$f":"PredShest('CPM-Deterministic'!$A$4:$D$29, $B$1, $A27,G$3)","v":{"$error":"#NAME?"}},{"$f":"PredShest('CPM-Deterministic'!$A$4:$D$29, $B$1, $A27,H$3)","v":{"$error":"#NAME?"}},{"$f":"PredShest('CPM-Deterministic'!$A$4:$D$29, $B$1, $A27,I$3)","v":{"$error":"#NAME?"}},{"$f":"PredShest('CPM-Deterministic'!$A$4:$D$29, $B$1, $A27,J$3)","v":{"$error":"#NAME?"}},{"$f":"PredShest('CPM-Deterministic'!$A$4:$D$29, $B$1, $A27,K$3)","v":{"$error":"#NAME?"}},{"$f":"PredShest('CPM-Deterministic'!$A$4:$D$29, $B$1, $A27,L$3)","v":{"$error":"#NAME?"}},{"$f":"PredShest('CPM-Deterministic'!$A$4:$D$29, $B$1, $A27,M$3)","v":{"$error":"#NAME?"}},{"$f":"PredShest('CPM-Deterministic'!$A$4:$D$29, $B$1, $A27,N$3)","v":{"$error":"#NAME?"}},{"$f":"PredShest('CPM-Deterministic'!$A$4:$D$29, $B$1, $A27,O$3)","v":{"$error":"#NAME?"}},{"$f":"PredShest('CPM-Deterministic'!$A$4:$D$29, $B$1, $A27,P$3)","v":{"$error":"#NAME?"}},{"$f":"PredShest('CPM-Deterministic'!$A$4:$D$29, $B$1, $A27,Q$3)","v":{"$error":"#NAME?"}},{"$f":"PredShest('CPM-Deterministic'!$A$4:$D$29, $B$1, $A27,R$3)","v":{"$error":"#NAME?"}},{"$f":"PredShest('CPM-Deterministic'!$A$4:$D$29, $B$1, $A27,S$3)","v":{"$error":"#NAME?"}},{"$f":"PredShest('CPM-Deterministic'!$A$4:$D$29, $B$1, $A27,T$3)","v":{"$error":"#NAME?"}},{"$f":"PredShest('CPM-Deterministic'!$A$4:$D$29, $B$1, $A27,U$3)","v":{"$error":"#NAME?"}},{"$f":"PredShest('CPM-Deterministic'!$A$4:$D$29, $B$1, $A27,V$3)","v":{"$error":"#NAME?"}},{"$f":"PredShest('CPM-Deterministic'!$A$4:$D$29, $B$1, $A27,W$3)","v":{"$error":"#NAME?"}},{"$f":"PredShest('CPM-Deterministic'!$A$4:$D$29, $B$1, $A27,X$3)","v":{"$error":"#NAME?"}},{"$f":"PredShest('CPM-Deterministic'!$A$4:$D$29, $B$1, $A27,Y$3)","v":{"$error":"#NAME?"}},{"$f":"PredShest('CPM-Deterministic'!$A$4:$D$29, $B$1, $A27,Z$3)","v":{"$error":"#NAME?"}},{"$f":"PredShest('CPM-Deterministic'!$A$4:$D$29, $B$1, $A27,AA$3)","v":{"$error":"#NAME?"}}]
["Y",{"$f":"PredShest('CPM-Deterministic'!$A$4:$D$29, $B$1, $A28,B$3)","v":{"$error":"#NAME?"}},{"$f":"PredShest('CPM-Deterministic'!$A$4:$D$29, $B$1, $A28,C$3)","v":{"$error":"#NAME?"}},{"$f":"PredShest('CPM-Deterministic'!$A$4:$D$29, $B$1, $A28,D$3)","v":{"$error":"#NAME?"}},{"$f":"PredShest('CPM-Deterministic'!$A$4:$D$29, $B$1, $A28,E$3)","v":{"$error":"#NAME?"}},{"$f":"PredShest('CPM-Deterministic'!$A$4:$D$29, $B$1, $A28,F$3)","v":{"$error":"#NAME?"}},{"$f":"PredShest('CPM-Deterministic'!$A$4:$D$29, $B$1, $A28,G$3)","v":{"$error":"#NAME?"}},{"$f":"PredShest('CPM-Deterministic'!$A$4:$D$29, $B$1, $A28,H$3)","v":{"$error":"#NAME?"}},{"$f":"PredShest('CPM-Deterministic'!$A$4:$D$29, $B$1, $A28,I$3)","v":{"$error":"#NAME?"}},{"$f":"PredShest('CPM-Deterministic'!$A$4:$D$29, $B$1, $A28,J$3)","v":{"$error":"#NAME?"}},{"$f":"PredShest('CPM-Deterministic'!$A$4:$D$29, $B$1, $A28,K$3)","v":{"$error":"#NAME?"}},{"$f":"PredShest('CPM-Deterministic'!$A$4:$D$29, $B$1, $A28,L$3)","v":{"$error":"#NAME?"}},{"$f":"PredShest('CPM-Deterministic'!$A$4:$D$29, $B$1, $A28,M$3)","v":{"$error":"#NAME?"}},{"$f":"PredShest('CPM-Deterministic'!$A$4:$D$29, $B$1, $A28,N$3)","v":{"$error":"#NAME?"}},{"$f":"PredShest('CPM-Deterministic'!$A$4:$D$29, $B$1, $A28,O$3)","v":{"$error":"#NAME?"}},{"$f":"PredShest('CPM-Deterministic'!$A$4:$D$29, $B$1, $A28,P$3)","v":{"$error":"#NAME?"}},{"$f":"PredShest('CPM-Deterministic'!$A$4:$D$29, $B$1, $A28,Q$3)","v":{"$error":"#NAME?"}},{"$f":"PredShest('CPM-Deterministic'!$A$4:$D$29, $B$1, $A28,R$3)","v":{"$error":"#NAME?"}},{"$f":"PredShest('CPM-Deterministic'!$A$4:$D$29, $B$1, $A28,S$3)","v":{"$error":"#NAME?"}},{"$f":"PredShest('CPM-Deterministic'!$A$4:$D$29, $B$1, $A28,T$3)","v":{"$error":"#NAME?"}},{"$f":"PredShest('CPM-Deterministic'!$A$4:$D$29, $B$1, $A28,U$3)","v":{"$error":"#NAME?"}},{"$f":"PredShest('CPM-Deterministic'!$A$4:$D$29, $B$1, $A28,V$3)","v":{"$error":"#NAME?"}},{"$f":"PredShest('CPM-Deterministic'!$A$4:$D$29, $B$1, $A28,W$3)","v":{"$error":"#NAME?"}},{"$f":"PredShest('CPM-Deterministic'!$A$4:$D$29, $B$1, $A28,X$3)","v":{"$error":"#NAME?"}},{"$f":"PredShest('CPM-Deterministic'!$A$4:$D$29, $B$1, $A28,Y$3)","v":{"$error":"#NAME?"}},{"$f":"PredShest('CPM-Deterministic'!$A$4:$D$29, $B$1, $A28,Z$3)","v":{"$error":"#NAME?"}},{"$f":"PredShest('CPM-Deterministic'!$A$4:$D$29, $B$1, $A28,AA$3)","v":{"$error":"#NAME?"}}]
["Z",{"$f":"PredShest('CPM-Deterministic'!$A$4:$D$29, $B$1, $A29,B$3)","v":{"$error":"#NAME?"}},{"$f":"PredShest('CPM-Deterministic'!$A$4:$D$29, $B$1, $A29,C$3)","v":{"$error":"#NAME?"}},{"$f":"PredShest('CPM-Deterministic'!$A$4:$D$29, $B$1, $A29,D$3)","v":{"$error":"#NAME?"}},{"$f":"PredShest('CPM-Deterministic'!$A$4:$D$29, $B$1, $A29,E$3)","v":{"$error":"#NAME?"}},{"$f":"PredShest('CPM-Deterministic'!$A$4:$D$29, $B$1, $A29,F$3)","v":{"$error":"#NAME?"}},{"$f":"PredShest('CPM-Deterministic'!$A$4:$D$29, $B$1, $A29,G$3)","v":{"$error":"#NAME?"}},{"$f":"PredShest('CPM-Deterministic'!$A$4:$D$29, $B$1, $A29,H$3)","v":{"$error":"#NAME?"}},{"$f":"PredShest('CPM-Deterministic'!$A$4:$D$29, $B$1, $A29,I$3)","v":{"$error":"#NAME?"}},{"$f":"PredShest('CPM-Deterministic'!$A$4:$D$29, $B$1, $A29,J$3)","v":{"$error":"#NAME?"}},{"$f":"PredShest('CPM-Deterministic'!$A$4:$D$29, $B$1, $A29,K$3)","v":{"$error":"#NAME?"}},{"$f":"PredShest('CPM-Deterministic'!$A$4:$D$29, $B$1, $A29,L$3)","v":{"$error":"#NAME?"}},{"$f":"PredShest('CPM-Deterministic'!$A$4:$D$29, $B$1, $A29,M$3)","v":{"$error":"#NAME?"}},{"$f":"PredShest('CPM-Deterministic'!$A$4:$D$29, $B$1, $A29,N$3)","v":{"$error":"#NAME?"}},{"$f":"PredShest('CPM-Deterministic'!$A$4:$D$29, $B$1, $A29,O$3)","v":{"$error":"#NAME?"}},{"$f":"PredShest('CPM-Deterministic'!$A$4:$D$29, $B$1, $A29,P$3)","v":{"$error":"#NAME?"}},{"$f":"PredShest('CPM-Deterministic'!$A$4:$D$29, $B$1, $A29,Q$3)","v":{"$error":"#NAME?"}},{"$f":"PredShest('CPM-Deterministic'!$A$4:$D$29, $B$1, $A29,R$3)","v":{"$error":"#NAME?"}},{"$f":"PredShest('CPM-Deterministic'!$A$4:$D$29, $B$1, $A29,S$3)","v":{"$error":"#NAME?"}},{"$f":"PredShest('CPM-Deterministic'!$A$4:$D$29, $B$1, $A29,T$3)","v":{"$error":"#NAME?"}},{"$f":"PredShest('CPM-Deterministic'!$A$4:$D$29, $B$1, $A29,U$3)","v":{"$error":"#NAME?"}},{"$f":"PredShest('CPM-Deterministic'!$A$4:$D$29, $B$1, $A29,V$3)","v":{"$error":"#NAME?"}},{"$f":"PredShest('CPM-Deterministic'!$A$4:$D$29, $B$1, $A29,W$3)","v":{"$error":"#NAME?"}},{"$f":"PredShest('CPM-Deterministic'!$A$4:$D$29, $B$1, $A29,X$3)","v":{"$error":"#NAME?"}},{"$f":"PredShest('CPM-Deterministic'!$A$4:$D$29, $B$1, $A29,Y$3)","v":{"$error":"#NAME?"}},{"$f":"PredShest('CPM-Deterministic'!$A$4:$D$29, $B$1, $A29,Z$3)","v":{"$error":"#NAME?"}},{"$f":"PredShest('CPM-Deterministic'!$A$4:$D$29, $B$1, $A29,AA$3)","v":{"$error":"#NAME?"}}]

{"sheet":"TableProb","index":1,"n_rows":29,"n_cols":27,"rows_kept":29,"hidden":true}
["N =",{"$f":"ActivitiesProb(#REF!)","v":{"$error":"#NAME?"}}]
[]
["Activity","A","B","C","D","E","F","G","H","I","J","K","L","M","N","O","P","Q","R","S","T","U","V","W","X","Y","Z"]
["A",{"$f":"PredShestProb(#REF!,$B$1,$A4,B$3)","v":{"$error":"#NAME?"}},{"$f":"PredShestProb(#REF!,$B$1,$A4,C$3)","v":{"$error":"#NAME?"}},{"$f":"PredShestProb(#REF!,$B$1,$A4,D$3)","v":{"$error":"#NAME?"}},{"$f":"PredShestProb(#REF!,$B$1,$A4,E$3)","v":{"$error":"#NAME?"}},{"$f":"PredShestProb(#REF!,$B$1,$A4,F$3)","v":{"$error":"#NAME?"}},{"$f":"PredShestProb(#REF!,$B$1,$A4,G$3)","v":{"$error":"#NAME?"}},{"$f":"PredShestProb(#REF!,$B$1,$A4,H$3)","v":{"$error":"#NAME?"}},{"$f":"PredShestProb(#REF!,$B$1,$A4,I$3)","v":{"$error":"#NAME?"}},{"$f":"PredShestProb(#REF!,$B$1,$A4,J$3)","v":{"$error":"#NAME?"}},{"$f":"PredShestProb(#REF!,$B$1,$A4,K$3)","v":{"$error":"#NAME?"}},{"$f":"PredShestProb(#REF!,$B$1,$A4,L$3)","v":{"$error":"#NAME?"}},{"$f":"PredShestProb(#REF!,$B$1,$A4,M$3)","v":{"$error":"#NAME?"}},{"$f":"PredShestProb(#REF!,$B$1,$A4,N$3)","v":{"$error":"#NAME?"}},{"$f":"PredShestProb(#REF!,$B$1,$A4,O$3)","v":{"$error":"#NAME?"}},{"$f":"PredShestProb(#REF!,$B$1,$A4,P$3)","v":{"$error":"#NAME?"}},{"$f":"PredShestProb(#REF!,$B$1,$A4,Q$3)","v":{"$error":"#NAME?"}},{"$f":"PredShestProb(#REF!,$B$1,$A4,R$3)","v":{"$error":"#NAME?"}},{"$f":"PredShestProb(#REF!,$B$1,$A4,S$3)","v":{"$error":"#NAME?"}},{"$f":"PredShestProb(#REF!,$B$1,$A4,T$3)","v":{"$error":"#NAME?"}},{"$f":"PredShestProb(#REF!,$B$1,$A4,U$3)","v":{"$error":"#NAME?"}},{"$f":"PredShestProb(#REF!,$B$1,$A4,V$3)","v":{"$error":"#NAME?"}},{"$f":"PredShestProb(#REF!,$B$1,$A4,W$3)","v":{"$error":"#NAME?"}},{"$f":"PredShestProb(#REF!,$B$1,$A4,X$3)","v":{"$error":"#NAME?"}},{"$f":"PredShestProb(#REF!,$B$1,$A4,Y$3)","v":{"$error":"#NAME?"}},{"$f":"PredShestProb(#REF!,$B$1,$A4,Z$3)","v":{"$error":"#NAME?"}},{"$f":"PredShestProb(#REF!,$B$1,$A4,AA$3)","v":{"$error":"#NAME?"}}]
["B",{"$f":"PredShestProb(#REF!,$B$1,$A5,B$3)","v":{"$error":"#NAME?"}},{"$f":"PredShestProb(#REF!,$B$1,$A5,C$3)","v":{"$error":"#NAME?"}},{"$f":"PredShestProb(#REF!,$B$1,$A5,D$3)","v":{"$error":"#NAME?"}},{"$f":"PredShestProb(#REF!,$B$1,$A5,E$3)","v":{"$error":"#NAME?"}},{"$f":"PredShestProb(#REF!,$B$1,$A5,F$3)","v":{"$error":"#NAME?"}},{"$f":"PredShestProb(#REF!,$B$1,$A5,G$3)","v":{"$error":"#NAME?"}},{"$f":"PredShestProb(#REF!,$B$1,$A5,H$3)","v":{"$error":"#NAME?"}},{"$f":"PredShestProb(#REF!,$B$1,$A5,I$3)","v":{"$error":"#NAME?"}},{"$f":"PredShestProb(#REF!,$B$1,$A5,J$3)","v":{"$error":"#NAME?"}},{"$f":"PredShestProb(#REF!,$B$1,$A5,K$3)","v":{"$error":"#NAME?"}},{"$f":"PredShestProb(#REF!,$B$1,$A5,L$3)","v":{"$error":"#NAME?"}},{"$f":"PredShestProb(#REF!,$B$1,$A5,M$3)","v":{"$error":"#NAME?"}},{"$f":"PredShestProb(#REF!,$B$1,$A5,N$3)","v":{"$error":"#NAME?"}},{"$f":"PredShestProb(#REF!,$B$1,$A5,O$3)","v":{"$error":"#NAME?"}},{"$f":"PredShestProb(#REF!,$B$1,$A5,P$3)","v":{"$error":"#NAME?"}},{"$f":"PredShestProb(#REF!,$B$1,$A5,Q$3)","v":{"$error":"#NAME?"}},{"$f":"PredShestProb(#REF!,$B$1,$A5,R$3)","v":{"$error":"#NAME?"}},{"$f":"PredShestProb(#REF!,$B$1,$A5,S$3)","v":{"$error":"#NAME?"}},{"$f":"PredShestProb(#REF!,$B$1,$A5,T$3)","v":{"$error":"#NAME?"}},{"$f":"PredShestProb(#REF!,$B$1,$A5,U$3)","v":{"$error":"#NAME?"}},{"$f":"PredShestProb(#REF!,$B$1,$A5,V$3)","v":{"$error":"#NAME?"}},{"$f":"PredShestProb(#REF!,$B$1,$A5,W$3)","v":{"$error":"#NAME?"}},{"$f":"PredShestProb(#REF!,$B$1,$A5,X$3)","v":{"$error":"#NAME?"}},{"$f":"PredShestProb(#REF!,$B$1,$A5,Y$3)","v":{"$error":"#NAME?"}},{"$f":"PredShestProb(#REF!,$B$1,$A5,Z$3)","v":{"$error":"#NAME?"}},{"$f":"PredShestProb(#REF!,$B$1,$A5,AA$3)","v":{"$error":"#NAME?"}}]
["C",{"$f":"PredShestProb(#REF!,$B$1,$A6,B$3)","v":{"$error":"#NAME?"}},{"$f":"PredShestProb(#REF!,$B$1,$A6,C$3)","v":{"$error":"#NAME?"}},{"$f":"PredShestProb(#REF!,$B$1,$A6,D$3)","v":{"$error":"#NAME?"}},{"$f":"PredShestProb(#REF!,$B$1,$A6,E$3)","v":{"$error":"#NAME?"}},{"$f":"PredShestProb(#REF!,$B$1,$A6,F$3)","v":{"$error":"#NAME?"}},{"$f":"PredShestProb(#REF!,$B$1,$A6,G$3)","v":{"$error":"#NAME?"}},{"$f":"PredShestProb(#REF!,$B$1,$A6,H$3)","v":{"$error":"#NAME?"}},{"$f":"PredShestProb(#REF!,$B$1,$A6,I$3)","v":{"$error":"#NAME?"}},{"$f":"PredShestProb(#REF!,$B$1,$A6,J$3)","v":{"$error":"#NAME?"}},{"$f":"PredShestProb(#REF!,$B$1,$A6,K$3)","v":{"$error":"#NAME?"}},{"$f":"PredShestProb(#REF!,$B$1,$A6,L$3)","v":{"$error":"#NAME?"}},{"$f":"PredShestProb(#REF!,$B$1,$A6,M$3)","v":{"$error":"#NAME?"}},{"$f":"PredShestProb(#REF!,$B$1,$A6,N$3)","v":{"$error":"#NAME?"}},{"$f":"PredShestProb(#REF!,$B$1,$A6,O$3)","v":{"$error":"#NAME?"}},{"$f":"PredShestProb(#REF!,$B$1,$A6,P$3)","v":{"$error":"#NAME?"}},{"$f":"PredShestProb(#REF!,$B$1,$A6,Q$3)","v":{"$error":"#NAME?"}},{"$f":"PredShestProb(#REF!,$B$1,$A6,R$3)","v":{"$error":"#NAME?"}},{"$f":"PredShestProb(#REF!,$B$1,$A6,S$3)","v":{"$error":"#NAME?"}},{"$f":"PredShestProb(#REF!,$B$1,$A6,T$3)","v":{"$error":"#NAME?"}},{"$f":"PredShestProb(#REF!,$B$1,$A6,U$3)","v":{"$error":"#NAME?"}},{"$f":"PredShestProb(#REF!,$B$1,$A6,V$3)","v":{"$error":"#NAME?"}},{"$f":"PredShestProb(#REF!,$B$1,$A6,W$3)","v":{"$error":"#NAME?"}},{"$f":"PredShestProb(#REF!,$B$1,$A6,X$3)","v":{"$error":"#NAME?"}},{"$f":"PredShestProb(#REF!,$B$1,$A6,Y$3)","v":{"$error":"#NAME?"}},{"$f":"PredShestProb(#REF!,$B$1,$A6,Z$3)","v":{"$error":"#NAME?"}},{"$f":"PredShestProb(#REF!,$B$1,$A6,AA$3)","v":{"$error":"#NAME?"}}]
["D",{"$f":"PredShestProb(#REF!,$B$1,$A7,B$3)","v":{"$error":"#NAME?"}},{"$f":"PredShestProb(#REF!,$B$1,$A7,C$3)","v":{"$error":"#NAME?"}},{"$f":"PredShestProb(#REF!,$B$1,$A7,D$3)","v":{"$error":"#NAME?"}},{"$f":"PredShestProb(#REF!,$B$1,$A7,E$3)","v":{"$error":"#NAME?"}},{"$f":"PredShestProb(#REF!,$B$1,$A7,F$3)","v":{"$error":"#NAME?"}},{"$f":"PredShestProb(#REF!,$B$1,$A7,G$3)","v":{"$error":"#NAME?"}},{"$f":"PredShestProb(#REF!,$B$1,$A7,H$3)","v":{"$error":"#NAME?"}},{"$f":"PredShestProb(#REF!,$B$1,$A7,I$3)","v":{"$error":"#NAME?"}},{"$f":"PredShestProb(#REF!,$B$1,$A7,J$3)","v":{"$error":"#NAME?"}},{"$f":"PredShestProb(#REF!,$B$1,$A7,K$3)","v":{"$error":"#NAME?"}},{"$f":"PredShestProb(#REF!,$B$1,$A7,L$3)","v":{"$error":"#NAME?"}},{"$f":"PredShestProb(#REF!,$B$1,$A7,M$3)","v":{"$error":"#NAME?"}},{"$f":"PredShestProb(#REF!,$B$1,$A7,N$3)","v":{"$error":"#NAME?"}},{"$f":"PredShestProb(#REF!,$B$1,$A7,O$3)","v":{"$error":"#NAME?"}},{"$f":"PredShestProb(#REF!,$B$1,$A7,P$3)","v":{"$error":"#NAME?"}},{"$f":"PredShestProb(#REF!,$B$1,$A7,Q$3)","v":{"$error":"#NAME?"}},{"$f":"PredShestProb(#REF!,$B$1,$A7,R$3)","v":{"$error":"#NAME?"}},{"$f":"PredShestProb(#REF!,$B$1,$A7,S$3)","v":{"$error":"#NAME?"}},{"$f":"PredShestProb(#REF!,$B$1,$A7,T$3)","v":{"$error":"#NAME?"}},{"$f":"PredShestProb(#REF!,$B$1,$A7,U$3)","v":{"$error":"#NAME?"}},{"$f":"PredShestProb(#REF!,$B$1,$A7,V$3)","v":{"$error":"#NAME?"}},{"$f":"PredShestProb(#REF!,$B$1,$A7,W$3)","v":{"$error":"#NAME?"}},{"$f":"PredShestProb(#REF!,$B$1,$A7,X$3)","v":{"$error":"#NAME?"}},{"$f":"PredShestProb(#REF!,$B$1,$A7,Y$3)","v":{"$error":"#NAME?"}},{"$f":"PredShestProb(#REF!,$B$1,$A7,Z$3)","v":{"$error":"#NAME?"}},{"$f":"PredShestProb(#REF!,$B$1,$A7,AA$3)","v":{"$error":"#NAME?"}}]
["E",{"$f":"PredShestProb(#REF!,$B$1,$A8,B$3)","v":{"$error":"#NAME?"}},{"$f":"PredShestProb(#REF!,$B$1,$A8,C$3)","v":{"$error":"#NAME?"}},{"$f":"PredShestProb(#REF!,$B$1,$A8,D$3)","v":{"$error":"#NAME?"}},{"$f":"PredShestProb(#REF!,$B$1,$A8,E$3)","v":{"$error":"#NAME?"}},{"$f":"PredShestProb(#REF!,$B$1,$A8,F$3)","v":{"$error":"#NAME?"}},{"$f":"PredShestProb(#REF!,$B$1,$A8,G$3)","v":{"$error":"#NAME?"}},{"$f":"PredShestProb(#REF!,$B$1,$A8,H$3)","v":{"$error":"#NAME?"}},{"$f":"PredShestProb(#REF!,$B$1,$A8,I$3)","v":{"$error":"#NAME?"}},{"$f":"PredShestProb(#REF!,$B$1,$A8,J$3)","v":{"$error":"#NAME?"}},{"$f":"PredShestProb(#REF!,$B$1,$A8,K$3)","v":{"$error":"#NAME?"}},{"$f":"PredShestProb(#REF!,$B$1,$A8,L$3)","v":{"$error":"#NAME?"}},{"$f":"PredShestProb(#REF!,$B$1,$A8,M$3)","v":{"$error":"#NAME?"}},{"$f":"PredShestProb(#REF!,$B$1,$A8,N$3)","v":{"$error":"#NAME?"}},{"$f":"PredShestProb(#REF!,$B$1,$A8,O$3)","v":{"$error":"#NAME?"}},{"$f":"PredShestProb(#REF!,$B$1,$A8,P$3)","v":{"$error":"#NAME?"}},{"$f":"PredShestProb(#REF!,$B$1,$A8,Q$3)","v":{"$error":"#NAME?"}},{"$f":"PredShestProb(#REF!,$B$1,$A8,R$3)","v":{"$error":"#NAME?"}},{"$f":"PredShestProb(#REF!,$B$1,$A8,S$3)","v":{"$error":"#NAME?"}},{"$f":"PredShestProb(#REF!,$B$1,$A8,T$3)","v":{"$error":"#NAME?"}},{"$f":"PredShestProb(#REF!,$B$1,$A8,U$3)","v":{"$error":"#NAME?"}},{"$f":"PredShestProb(#REF!,$B$1,$A8,V$3)","v":{"$error":"#NAME?"}},{"$f":"PredShestProb(#REF!,$B$1,$A8,W$3)","v":{"$error":"#NAME?"}},{"$f":"PredShestProb(#REF!,$B$1,$A8,X$3)","v":{"$error":"#NAME?"}},{"$f":"PredShestProb(#REF!,$B$1,$A8,Y$3)","v":{"$error":"#NAME?"}},{"$f":"PredShestProb(#REF!,$B$1,$A8,Z$3)","v":{"$error":"#NAME?"}},{"$f":"PredShestProb(#REF!,$B$1,$A8,AA$3)","v":{"$error":"#NAME?"}}]
["F",{"$f":"PredShestProb(#REF!,$B$1,$A9,B$3)","v":{"$error":"#NAME?"}},{"$f":"PredShestProb(#REF!,$B$1,$A9,C$3)","v":{"$error":"#NAME?"}},{"$f":"PredShestProb(#REF!,$B$1,$A9,D$3)","v":{"$error":"#NAME?"}},{"$f":"PredShestProb(#REF!,$B$1,$A9,E$3)","v":{"$error":"#NAME?"}},{"$f":"PredShestProb(#REF!,$B$1,$A9,F$3)","v":{"$error":"#NAME?"}},{"$f":"PredShestProb(#REF!,$B$1,$A9,G$3)","v":{"$error":"#NAME?"}},{"$f":"PredShestProb(#REF!,$B$1,$A9,H$3)","v":{"$error":"#NAME?"}},{"$f":"PredShestProb(#REF!,$B$1,$A9,I$3)","v":{"$error":"#NAME?"}},{"$f":"PredShestProb(#REF!,$B$1,$A9,J$3)","v":{"$error":"#NAME?"}},{"$f":"PredShestProb(#REF!,$B$1,$A9,K$3)","v":{"$error":"#NAME?"}},{"$f":"PredShestProb(#REF!,$B$1,$A9,L$3)","v":{"$error":"#NAME?"}},{"$f":"PredShestProb(#REF!,$B$1,$A9,M$3)","v":{"$error":"#NAME?"}},{"$f":"PredShestProb(#REF!,$B$1,$A9,N$3)","v":{"$error":"#NAME?"}},{"$f":"PredShestProb(#REF!,$B$1,$A9,O$3)","v":{"$error":"#NAME?"}},{"$f":"PredShestProb(#REF!,$B$1,$A9,P$3)","v":{"$error":"#NAME?"}},{"$f":"PredShestProb(#REF!,$B$1,$A9,Q$3)","v":{"$error":"#NAME?"}},{"$f":"PredShestProb(#REF!,$B$1,$A9,R$3)","v":{"$error":"#NAME?"}},{"$f":"PredShestProb(#REF!,$B$1,$A9,S$3)","v":{"$error":"#NAME?"}},{"$f":"PredShestProb(#REF!,$B$1,$A9,T$3)","v":{"$error":"#NAME?"}},{"$f":"PredShestProb(#REF!,$B$1,$A9,U$3)","v":{"$error":"#NAME?"}},{"$f":"PredShestProb(#REF!,$B$1,$A9,V$3)","v":{"$error":"#NAME?"}},{"$f":"PredShestProb(#REF!,$B$1,$A9,W$3)","v":{"$error":"#NAME?"}},{"$f":"PredShestProb(#REF!,$B$1,$A9,X$3)","v":{"$error":"#NAME?"}},{"$f":"PredShestProb(#REF!,$B$1,$A9,Y$3)","v":{"$error":"#NAME?"}},{"$f":"PredShestProb(#REF!,$B$1,$A9,Z$3)","v":{"$error":"#NAME?"}},{"$f":"PredShestProb(#REF!,$B$1,$A9,AA$3)","v":{"$error":"#NAME?"}}]
["G",{"$f":"PredShestProb(#REF!,$B$1,$A10,B$3)","v":{"$error":"#NAME?"}},{"$f":"PredShestProb(#REF!,$B$1,$A10,C$3)","v":{"$error":"#NAME?"}},{"$f":"PredShestProb(#REF!,$B$1,$A10,D$3)","v":{"$error":"#NAME?"}},{"$f":"PredShestProb(#REF!,$B$1,$A10,E$3)","v":{"$error":"#NAME?"}},{"$f":"PredShestProb(#REF!,$B$1,$A10,F$3)","v":{"$error":"#NAME?"}},{"$f":"PredShestProb(#REF!,$B$1,$A10,G$3)","v":{"$error":"#NAME?"}},{"$f":"PredShestProb(#REF!,$B$1,$A10,H$3)","v":{"$error":"#NAME?"}},{"$f":"PredShestProb(#REF!,$B$1,$A10,I$3)","v":{"$error":"#NAME?"}},{"$f":"PredShestProb(#REF!,$B$1,$A10,J$3)","v":{"$error":"#NAME?"}},{"$f":"PredShestProb(#REF!,$B$1,$A10,K$3)","v":{"$error":"#NAME?"}},{"$f":"PredShestProb(#REF!,$B$1,$A10,L$3)","v":{"$error":"#NAME?"}},{"$f":"PredShestProb(#REF!,$B$1,$A10,M$3)","v":{"$error":"#NAME?"}},{"$f":"PredShestProb(#REF!,$B$1,$A10,N$3)","v":{"$error":"#NAME?"}},{"$f":"PredShestProb(#REF!,$B$1,$A10,O$3)","v":{"$error":"#NAME?"}},{"$f":"PredShestProb(#REF!,$B$1,$A10,P$3)","v":{"$error":"#NAME?"}},{"$f":"PredShestProb(#REF!,$B$1,$A10,Q$3)","v":{"$error":"#NAME?"}},{"$f":"PredShestProb(#REF!,$B$1,$A10,R$3)","v":{"$error":"#NAME?"}},{"$f":"PredShestProb(#REF!,$B$1,$A10,S$3)","v":{"$error":"#NAME?"}},{"$f":"PredShestProb(#REF!,$B$1,$A10,T$3)","v":{"$error":"#NAME?"}},{"$f":"PredShestProb(#REF!,$B$1,$A10,U$3)","v":{"$error":"#NAME?"}},{"$f":"PredShestProb(#REF!,$B$1,$A10,V$3)","v":{"$error":"#NAME?"}},{"$f":"PredShestProb(#REF!,$B$1,$A10,W$3)","v":{"$error":"#NAME?"}},{"$f":"PredShestProb(#REF!,$B$1,$A10,X$3)","v":{"$error":"#NAME?"}},{"$f":"PredShestProb(#REF!,$B$1,$A10,Y$3)","v":{"$error":"#NAME?"}},{"$f":"PredShestProb(#REF!,$B$1,$A10,Z$3)","v":{"$error":"#NAME?"}},{"$f":"PredShestProb(#REF!,$B$1,$A10,AA$3)","v":{"$error":"#NAME?"}}]
["H",{"$f":"PredShestProb(#REF!,$B$1,$A11,B$3)","v":{"$error":"#NAME?"}},{"$f":"PredShestProb(#REF!,$B$1,$A11,C$3)","v":{"$error":"#NAME?"}},{"$f":"PredShestProb(#REF!,$B$1,$A11,D$3)","v":{"$error":"#NAME?"}},{"$f":"PredShestProb(#REF!,$B$1,$A11,E$3)","v":{"$error":"#NAME?"}},{"$f":"PredShestProb(#REF!,$B$1,$A11,F$3)","v":{"$error":"#NAME?"}},{"$f":"PredShestProb(#REF!,$B$1,$A11,G$3)","v":{"$error":"#NAME?"}},{"$f":"PredShestProb(#REF!,$B$1,$A11,H$3)","v":{"$error":"#NAME?"}},{"$f":"PredShestProb(#REF!,$B$1,$A11,I$3)","v":{"$error":"#NAME?"}},{"$f":"PredShestProb(#REF!,$B$1,$A11,J$3)","v":{"$error":"#NAME?"}},{"$f":"PredShestProb(#REF!,$B$1,$A11,K$3)","v":{"$error":"#NAME?"}},{"$f":"PredShestProb(#REF!,$B$1,$A11,L$3)","v":{"$error":"#NAME?"}},{"$f":"PredShestProb(#REF!,$B$1,$A11,M$3)","v":{"$error":"#NAME?"}},{"$f":"PredShestProb(#REF!,$B$1,$A11,N$3)","v":{"$error":"#NAME?"}},{"$f":"PredShestProb(#REF!,$B$1,$A11,O$3)","v":{"$error":"#NAME?"}},{"$f":"PredShestProb(#REF!,$B$1,$A11,P$3)","v":{"$error":"#NAME?"}},{"$f":"PredShestProb(#REF!,$B$1,$A11,Q$3)","v":{"$error":"#NAME?"}},{"$f":"PredShestProb(#REF!,$B$1,$A11,R$3)","v":{"$error":"#NAME?"}},{"$f":"PredShestProb(#REF!,$B$1,$A11,S$3)","v":{"$error":"#NAME?"}},{"$f":"PredShestProb(#REF!,$B$1,$A11,T$3)","v":{"$error":"#NAME?"}},{"$f":"PredShestProb(#REF!,$B$1,$A11,U$3)","v":{"$error":"#NAME?"}},{"$f":"PredShestProb(#REF!,$B$1,$A11,V$3)","v":{"$error":"#NAME?"}},{"$f":"PredShestProb(#REF!,$B$1,$A11,W$3)","v":{"$error":"#NAME?"}},{"$f":"PredShestProb(#REF!,$B$1,$A11,X$3)","v":{"$error":"#NAME?"}},{"$f":"PredShestProb(#REF!,$B$1,$A11,Y$3)","v":{"$error":"#NAME?"}},{"$f":"PredShestProb(#REF!,$B$1,$A11,Z$3)","v":{"$error":"#NAME?"}},{"$f":"PredShestProb(#REF!,$B$1,$A11,AA$3)","v":{"$error":"#NAME?"}}]
["I",{"$f":"PredShestProb(#REF!,$B$1,$A12,B$3)","v":{"$error":"#NAME?"}},{"$f":"PredShestProb(#REF!,$B$1,$A12,C$3)","v":{"$error":"#NAME?"}},{"$f":"PredShestProb(#REF!,$B$1,$A12,D$3)","v":{"$error":"#NAME?"}},{"$f":"PredShestProb(#REF!,$B$1,$A12,E$3)","v":{"$error":"#NAME?"}},{"$f":"PredShestProb(#REF!,$B$1,$A12,F$3)","v":{"$error":"#NAME?"}},{"$f":"PredShestProb(#REF!,$B$1,$A12,G$3)","v":{"$error":"#NAME?"}},{"$f":"PredShestProb(#REF!,$B$1,$A12,H$3)","v":{"$error":"#NAME?"}},{"$f":"PredShestProb(#REF!,$B$1,$A12,I$3)","v":{"$error":"#NAME?"}},{"$f":"PredShestProb(#REF!,$B$1,$A12,J$3)","v":{"$error":"#NAME?"}},{"$f":"PredShestProb(#REF!,$B$1,$A12,K$3)","v":{"$error":"#NAME?"}},{"$f":"PredShestProb(#REF!,$B$1,$A12,L$3)","v":{"$error":"#NAME?"}},{"$f":"PredShestProb(#REF!,$B$1,$A12,M$3)","v":{"$error":"#NAME?"}},{"$f":"PredShestProb(#REF!,$B$1,$A12,N$3)","v":{"$error":"#NAME?"}},{"$f":"PredShestProb(#REF!,$B$1,$A12,O$3)","v":{"$error":"#NAME?"}},{"$f":"PredShestProb(#REF!,$B$1,$A12,P$3)","v":{"$error":"#NAME?"}},{"$f":"PredShestProb(#REF!,$B$1,$A12,Q$3)","v":{"$error":"#NAME?"}},{"$f":"PredShestProb(#REF!,$B$1,$A12,R$3)","v":{"$error":"#NAME?"}},{"$f":"PredShestProb(#REF!,$B$1,$A12,S$3)","v":{"$error":"#NAME?"}},{"$f":"PredShestProb(#REF!,$B$1,$A12,T$3)","v":{"$error":"#NAME?"}},{"$f":"PredShestProb(#REF!,$B$1,$A12,U$3)","v":{"$error":"#NAME?"}},{"$f":"PredShestProb(#REF!,$B$1,$A12,V$3)","v":{"$error":"#NAME?"}},{"$f":"PredShestProb(#REF!,$B$1,$A12,W$3)","v":{"$error":"#NAME?"}},{"$f":"PredShestProb(#REF!,$B$1,$A12,X$3)","v":{"$error":"#NAME?"}},{"$f":"PredShestProb(#REF!,$B$1,$A12,Y$3)","v":{"$error":"#NAME?"}},{"$f":"PredShestProb(#REF!,$B$1,$A12,Z$3)","v":{"$error":"#NAME?"}},{"$f":"PredShestProb(#REF!,$B$1,$A12,AA$3)","v":{"$error":"#NAME?"}}]
["J",{"$f":"PredShestProb(#REF!,$B$1,$A13,B$3)","v":{"$error":"#NAME?"}},{"$f":"PredShestProb(#REF!,$B$1,$A13,C$3)","v":{"$error":"#NAME?"}},{"$f":"PredShestProb(#REF!,$B$1,$A13,D$3)","v":{"$error":"#NAME?"}},{"$f":"PredShestProb(#REF!,$B$1,$A13,E$3)","v":{"$error":"#NAME?"}},{"$f":"PredShestProb(#REF!,$B$1,$A13,F$3)","v":{"$error":"#NAME?"}},{"$f":"PredShestProb(#REF!,$B$1,$A13,G$3)","v":{"$error":"#NAME?"}},{"$f":"PredShestProb(#REF!,$B$1,$A13,H$3)","v":{"$error":"#NAME?"}},{"$f":"PredShestProb(#REF!,$B$1,$A13,I$3)","v":{"$error":"#NAME?"}},{"$f":"PredShestProb(#REF!,$B$1,$A13,J$3)","v":{"$error":"#NAME?"}},{"$f":"PredShestProb(#REF!,$B$1,$A13,K$3)","v":{"$error":"#NAME?"}},{"$f":"PredShestProb(#REF!,$B$1,$A13,L$3)","v":{"$error":"#NAME?"}},{"$f":"PredShestProb(#REF!,$B$1,$A13,M$3)","v":{"$error":"#NAME?"}},{"$f":"PredShestProb(#REF!,$B$1,$A13,N$3)","v":{"$error":"#NAME?"}},{"$f":"PredShestProb(#REF!,$B$1,$A13,O$3)","v":{"$error":"#NAME?"}},{"$f":"PredShestProb(#REF!,$B$1,$A13,P$3)","v":{"$error":"#NAME?"}},{"$f":"PredShestProb(#REF!,$B$1,$A13,Q$3)","v":{"$error":"#NAME?"}},{"$f":"PredShestProb(#REF!,$B$1,$A13,R$3)","v":{"$error":"#NAME?"}},{"$f":"PredShestProb(#REF!,$B$1,$A13,S$3)","v":{"$error":"#NAME?"}},{"$f":"PredShestProb(#REF!,$B$1,$A13,T$3)","v":{"$error":"#NAME?"}},{"$f":"PredShestProb(#REF!,$B$1,$A13,U$3)","v":{"$error":"#NAME?"}},{"$f":"PredShestProb(#REF!,$B$1,$A13,V$3)","v":{"$error":"#NAME?"}},{"$f":"PredShestProb(#REF!,$B$1,$A13,W$3)","v":{"$error":"#NAME?"}},{"$f":"PredShestProb(#REF!,$B$1,$A13,X$3)","v":{"$error":"#NAME?"}},{"$f":"PredShestProb(#REF!,$B$1,$A13,Y$3)","v":{"$error":"#NAME?"}},{"$f":"PredShestProb(#REF!,$B$1,$A13,Z$3)","v":{"$error":"#NAME?"}},{"$f":"PredShestProb(#REF!,$B$1,$A13,AA$3)","v":{"$error":"#NAME?"}}]
["K",{"$f":"PredShestProb(#REF!,$B$1,$A14,B$3)","v":{"$error":"#NAME?"}},{"$f":"PredShestProb(#REF!,$B$1,$A14,C$3)","v":{"$error":"#NAME?"}},{"$f":"PredShestProb(#REF!,$B$1,$A14,D$3)","v":{"$error":"#NAME?"}},{"$f":"PredShestProb(#REF!,$B$1,$A14,E$3)","v":{"$error":"#NAME?"}},{"$f":"PredShestProb(#REF!,$B$1,$A14,F$3)","v":{"$error":"#NAME?"}},{"$f":"PredShestProb(#REF!,$B$1,$A14,G$3)","v":{"$error":"#NAME?"}},{"$f":"PredShestProb(#REF!,$B$1,$A14,H$3)","v":{"$error":"#NAME?"}},{"$f":"PredShestProb(#REF!,$B$1,$A14,I$3)","v":{"$error":"#NAME?"}},{"$f":"PredShestProb(#REF!,$B$1,$A14,J$3)","v":{"$error":"#NAME?"}},{"$f":"PredShestProb(#REF!,$B$1,$A14,K$3)","v":{"$error":"#NAME?"}},{"$f":"PredShestProb(#REF!,$B$1,$A14,L$3)","v":{"$error":"#NAME?"}},{"$f":"PredShestProb(#REF!,$B$1,$A14,M$3)","v":{"$error":"#NAME?"}},{"$f":"PredShestProb(#REF!,$B$1,$A14,N$3)","v":{"$error":"#NAME?"}},{"$f":"PredShestProb(#REF!,$B$1,$A14,O$3)","v":{"$error":"#NAME?"}},{"$f":"PredShestProb(#REF!,$B$1,$A14,P$3)","v":{"$error":"#NAME?"}},{"$f":"PredShestProb(#REF!,$B$1,$A14,Q$3)","v":{"$error":"#NAME?"}},{"$f":"PredShestProb(#REF!,$B$1,$A14,R$3)","v":{"$error":"#NAME?"}},{"$f":"PredShestProb(#REF!,$B$1,$A14,S$3)","v":{"$error":"#NAME?"}},{"$f":"PredShestProb(#REF!,$B$1,$A14,T$3)","v":{"$error":"#NAME?"}},{"$f":"PredShestProb(#REF!,$B$1,$A14,U$3)","v":{"$error":"#NAME?"}},{"$f":"PredShestProb(#REF!,$B$1,$A14,V$3)","v":{"$error":"#NAME?"}},{"$f":"PredShestProb(#REF!,$B$1,$A14,W$3)","v":{"$error":"#NAME?"}},{"$f":"PredShestProb(#REF!,$B$1,$A14,X$3)","v":{"$error":"#NAME?"}},{"$f":"PredShestProb(#REF!,$B$1,$A14,Y$3)","v":{"$error":"#NAME?"}},{"$f":"PredShestProb(#REF!,$B$1,$A14,Z$3)","v":{"$error":"#NAME?"}},{"$f":"PredShestProb(#REF!,$B$1,$A14,AA$3)","v":{"$error":"#NAME?"}}]
["L",{"$f":"PredShestProb(#REF!,$B$1,$A15,B$3)","v":{"$error":"#NAME?"}},{"$f":"PredShestProb(#REF!,$B$1,$A15,C$3)","v":{"$error":"#NAME?"}},{"$f":"PredShestProb(#REF!,$B$1,$A15,D$3)","v":{"$error":"#NAME?"}},{"$f":"PredShestProb(#REF!,$B$1,$A15,E$3)","v":{"$error":"#NAME?"}},{"$f":"PredShestProb(#REF!,$B$1,$A15,F$3)","v":{"$error":"#NAME?"}},{"$f":"PredShestProb(#REF!,$B$1,$A15,G$3)","v":{"$error":"#NAME?"}},{"$f":"PredShestProb(#REF!,$B$1,$A15,H$3)","v":{"$error":"#NAME?"}},{"$f":"PredShestProb(#REF!,$B$1,$A15,I$3)","v":{"$error":"#NAME?"}},{"$f":"PredShestProb(#REF!,$B$1,$A15,J$3)","v":{"$error":"#NAME?"}},{"$f":"PredShestProb(#REF!,$B$1,$A15,K$3)","v":{"$error":"#NAME?"}},{"$f":"PredShestProb(#REF!,$B$1,$A15,L$3)","v":{"$error":"#NAME?"}},{"$f":"PredShestProb(#REF!,$B$1,$A15,M$3)","v":{"$error":"#NAME?"}},{"$f":"PredShestProb(#REF!,$B$1,$A15,N$3)","v":{"$error":"#NAME?"}},{"$f":"PredShestProb(#REF!,$B$1,$A15,O$3)","v":{"$error":"#NAME?"}},{"$f":"PredShestProb(#REF!,$B$1,$A15,P$3)","v":{"$error":"#NAME?"}},{"$f":"PredShestProb(#REF!,$B$1,$A15,Q$3)","v":{"$error":"#NAME?"}},{"$f":"PredShestProb(#REF!,$B$1,$A15,R$3)","v":{"$error":"#NAME?"}},{"$f":"PredShestProb(#REF!,$B$1,$A15,S$3)","v":{"$error":"#NAME?"}},{"$f":"PredShestProb(#REF!,$B$1,$A15,T$3)","v":{"$error":"#NAME?"}},{"$f":"PredShestProb(#REF!,$B$1,$A15,U$3)","v":{"$error":"#NAME?"}},{"$f":"PredShestProb(#REF!,$B$1,$A15,V$3)","v":{"$error":"#NAME?"}},{"$f":"PredShestProb(#REF!,$B$1,$A15,W$3)","v":{"$error":"#NAME?"}},{"$f":"PredShestProb(#REF!,$B$1,$A15,X$3)","v":{"$error":"#NAME?"}},{"$f":"PredShestProb(#REF!,$B$1,$A15,Y$3)","v":{"$error":"#NAME?"}},{"$f":"PredShestProb(#REF!,$B$1,$A15,Z$3)","v":{"$error":"#NAME?"}},{"$f":"PredShestProb(#REF!,$B$1,$A15,AA$3)","v":{"$error":"#NAME?"}}]
["M",{"$f":"PredShestProb(#REF!,$B$1,$A16,B$3)","v":{"$error":"#NAME?"}},{"$f":"PredShestProb(#REF!,$B$1,$A16,C$3)","v":{"$error":"#NAME?"}},{"$f":"PredShestProb(#REF!,$B$1,$A16,D$3)","v":{"$error":"#NAME?"}},{"$f":"PredShestProb(#REF!,$B$1,$A16,E$3)","v":{"$error":"#NAME?"}},{"$f":"PredShestProb(#REF!,$B$1,$A16,F$3)","v":{"$error":"#NAME?"}},{"$f":"PredShestProb(#REF!,$B$1,$A16,G$3)","v":{"$error":"#NAME?"}},{"$f":"PredShestProb(#REF!,$B$1,$A16,H$3)","v":{"$error":"#NAME?"}},{"$f":"PredShestProb(#REF!,$B$1,$A16,I$3)","v":{"$error":"#NAME?"}},{"$f":"PredShestProb(#REF!,$B$1,$A16,J$3)","v":{"$error":"#NAME?"}},{"$f":"PredShestProb(#REF!,$B$1,$A16,K$3)","v":{"$error":"#NAME?"}},{"$f":"PredShestProb(#REF!,$B$1,$A16,L$3)","v":{"$error":"#NAME?"}},{"$f":"PredShestProb(#REF!,$B$1,$A16,M$3)","v":{"$error":"#NAME?"}},{"$f":"PredShestProb(#REF!,$B$1,$A16,N$3)","v":{"$error":"#NAME?"}},{"$f":"PredShestProb(#REF!,$B$1,$A16,O$3)","v":{"$error":"#NAME?"}},{"$f":"PredShestProb(#REF!,$B$1,$A16,P$3)","v":{"$error":"#NAME?"}},{"$f":"PredShestProb(#REF!,$B$1,$A16,Q$3)","v":{"$error":"#NAME?"}},{"$f":"PredShestProb(#REF!,$B$1,$A16,R$3)","v":{"$error":"#NAME?"}},{"$f":"PredShestProb(#REF!,$B$1,$A16,S$3)","v":{"$error":"#NAME?"}},{"$f":"PredShestProb(#REF!,$B$1,$A16,T$3)","v":{"$error":"#NAME?"}},{"$f":"PredShestProb(#REF!,$B$1,$A16,U$3)","v":{"$error":"#NAME?"}},{"$f":"PredShestProb(#REF!,$B$1,$A16,V$3)","v":{"$error":"#NAME?"}},{"$f":"PredShestProb(#REF!,$B$1,$A16,W$3)","v":{"$error":"#NAME?"}},{"$f":"PredShestProb(#REF!,$B$1,$A16,X$3)","v":{"$error":"#NAME?"}},{"$f":"PredShestProb(#REF!,$B$1,$A16,Y$3)","v":{"$error":"#NAME?"}},{"$f":"PredShestProb(#REF!,$B$1,$A16,Z$3)","v":{"$error":"#NAME?"}},{"$f":"PredShestProb(#REF!,$B$1,$A16,AA$3)","v":{"$error":"#NAME?"}}]
["N",{"$f":"PredShestProb(#REF!,$B$1,$A17,B$3)","v":{"$error":"#NAME?"}},{"$f":"PredShestProb(#REF!,$B$1,$A17,C$3)","v":{"$error":"#NAME?"}},{"$f":"PredShestProb(#REF!,$B$1,$A17,D$3)","v":{"$error":"#NAME?"}},{"$f":"PredShestProb(#REF!,$B$1,$A17,E$3)","v":{"$error":"#NAME?"}},{"$f":"PredShestProb(#REF!,$B$1,$A17,F$3)","v":{"$error":"#NAME?"}},{"$f":"PredShestProb(#REF!,$B$1,$A17,G$3)","v":{"$error":"#NAME?"}},{"$f":"PredShestProb(#REF!,$B$1,$A17,H$3)","v":{"$error":"#NAME?"}},{"$f":"PredShestProb(#REF!,$B$1,$A17,I$3)","v":{"$error":"#NAME?"}},{"$f":"PredShestProb(#REF!,$B$1,$A17,J$3)","v":{"$error":"#NAME?"}},{"$f":"PredShestProb(#REF!,$B$1,$A17,K$3)","v":{"$error":"#NAME?"}},{"$f":"PredShestProb(#REF!,$B$1,$A17,L$3)","v":{"$error":"#NAME?"}},{"$f":"PredShestProb(#REF!,$B$1,$A17,M$3)","v":{"$error":"#NAME?"}},{"$f":"PredShestProb(#REF!,$B$1,$A17,N$3)","v":{"$error":"#NAME?"}},{"$f":"PredShestProb(#REF!,$B$1,$A17,O$3)","v":{"$error":"#NAME?"}},{"$f":"PredShestProb(#REF!,$B$1,$A17,P$3)","v":{"$error":"#NAME?"}},{"$f":"PredShestProb(#REF!,$B$1,$A17,Q$3)","v":{"$error":"#NAME?"}},{"$f":"PredShestProb(#REF!,$B$1,$A17,R$3)","v":{"$error":"#NAME?"}},{"$f":"PredShestProb(#REF!,$B$1,$A17,S$3)","v":{"$error":"#NAME?"}},{"$f":"PredShestProb(#REF!,$B$1,$A17,T$3)","v":{"$error":"#NAME?"}},{"$f":"PredShestProb(#REF!,$B$1,$A17,U$3)","v":{"$error":"#NAME?"}},{"$f":"PredShestProb(#REF!,$B$1,$A17,V$3)","v":{"$error":"#NAME?"}},{"$f":"PredShestProb(#REF!,$B$1,$A17,W$3)","v":{"$error":"#NAME?"}},{"$f":"PredShestProb(#REF!,$B$1,$A17,X$3)","v":{"$error":"#NAME?"}},{"$f":"PredShestProb(#REF!,$B$1,$A17,Y$3)","v":{"$error":"#NAME?"}},{"$f":"PredShestProb(#REF!,$B$1,$A17,Z$3)","v":{"$error":"#NAME?"}},{"$f":"PredShestProb(#REF!,$B$1,$A17,AA$3)","v":{"$error":"#NAME?"}}]
["O",{"$f":"PredShestProb(#REF!,$B$1,$A18,B$3)","v":{"$error":"#NAME?"}},{"$f":"PredShestProb(#REF!,$B$1,$A18,C$3)","v":{"$error":"#NAME?"}},{"$f":"PredShestProb(#REF!,$B$1,$A18,D$3)","v":{"$error":"#NAME?"}},{"$f":"PredShestProb(#REF!,$B$1,$A18,E$3)","v":{"$error":"#NAME?"}},{"$f":"PredShestProb(#REF!,$B$1,$A18,F$3)","v":{"$error":"#NAME?"}},{"$f":"PredShestProb(#REF!,$B$1,$A18,G$3)","v":{"$error":"#NAME?"}},{"$f":"PredShestProb(#REF!,$B$1,$A18,H$3)","v":{"$error":"#NAME?"}},{"$f":"PredShestProb(#REF!,$B$1,$A18,I$3)","v":{"$error":"#NAME?"}},{"$f":"PredShestProb(#REF!,$B$1,$A18,J$3)","v":{"$error":"#NAME?"}},{"$f":"PredShestProb(#REF!,$B$1,$A18,K$3)","v":{"$error":"#NAME?"}},{"$f":"PredShestProb(#REF!,$B$1,$A18,L$3)","v":{"$error":"#NAME?"}},{"$f":"PredShestProb(#REF!,$B$1,$A18,M$3)","v":{"$error":"#NAME?"}},{"$f":"PredShestProb(#REF!,$B$1,$A18,N$3)","v":{"$error":"#NAME?"}},{"$f":"PredShestProb(#REF!,$B$1,$A18,O$3)","v":{"$error":"#NAME?"}},{"$f":"PredShestProb(#REF!,$B$1,$A18,P$3)","v":{"$error":"#NAME?"}},{"$f":"PredShestProb(#REF!,$B$1,$A18,Q$3)","v":{"$error":"#NAME?"}},{"$f":"PredShestProb(#REF!,$B$1,$A18,R$3)","v":{"$error":"#NAME?"}},{"$f":"PredShestProb(#REF!,$B$1,$A18,S$3)","v":{"$error":"#NAME?"}},{"$f":"PredShestProb(#REF!,$B$1,$A18,T$3)","v":{"$error":"#NAME?"}},{"$f":"PredShestProb(#REF!,$B$1,$A18,U$3)","v":{"$error":"#NAME?"}},{"$f":"PredShestProb(#REF!,$B$1,$A18,V$3)","v":{"$error":"#NAME?"}},{"$f":"PredShestProb(#REF!,$B$1,$A18,W$3)","v":{"$error":"#NAME?"}},{"$f":"PredShestProb(#REF!,$B$1,$A18,X$3)","v":{"$error":"#NAME?"}},{"$f":"PredShestProb(#REF!,$B$1,$A18,Y$3)","v":{"$error":"#NAME?"}},{"$f":"PredShestProb(#REF!,$B$1,$A18,Z$3)","v":{"$error":"#NAME?"}},{"$f":"PredShestProb(#REF!,$B$1,$A18,AA$3)","v":{"$error":"#NAME?"}}]
["P",{"$f":"PredShestProb(#REF!,$B$1,$A19,B$3)","v":{"$error":"#NAME?"}},{"$f":"PredShestProb(#REF!,$B$1,$A19,C$3)","v":{"$error":"#NAME?"}},{"$f":"PredShestProb(#REF!,$B$1,$A19,D$3)","v":{"$error":"#NAME?"}},{"$f":"PredShestProb(#REF!,$B$1,$A19,E$3)","v":{"$error":"#NAME?"}},{"$f":"PredShestProb(#REF!,$B$1,$A19,F$3)","v":{"$error":"#NAME?"}},{"$f":"PredShestProb(#REF!,$B$1,$A19,G$3)","v":{"$error":"#NAME?"}},{"$f":"PredShestProb(#REF!,$B$1,$A19,H$3)","v":{"$error":"#NAME?"}},{"$f":"PredShestProb(#REF!,$B$1,$A19,I$3)","v":{"$error":"#NAME?"}},{"$f":"PredShestProb(#REF!,$B$1,$A19,J$3)","v":{"$error":"#NAME?"}},{"$f":"PredShestProb(#REF!,$B$1,$A19,K$3)","v":{"$error":"#NAME?"}},{"$f":"PredShestProb(#REF!,$B$1,$A19,L$3)","v":{"$error":"#NAME?"}},{"$f":"PredShestProb(#REF!,$B$1,$A19,M$3)","v":{"$error":"#NAME?"}},{"$f":"PredShestProb(#REF!,$B$1,$A19,N$3)","v":{"$error":"#NAME?"}},{"$f":"PredShestProb(#REF!,$B$1,$A19,O$3)","v":{"$error":"#NAME?"}},{"$f":"PredShestProb(#REF!,$B$1,$A19,P$3)","v":{"$error":"#NAME?"}},{"$f":"PredShestProb(#REF!,$B$1,$A19,Q$3)","v":{"$error":"#NAME?"}},{"$f":"PredShestProb(#REF!,$B$1,$A19,R$3)","v":{"$error":"#NAME?"}},{"$f":"PredShestProb(#REF!,$B$1,$A19,S$3)","v":{"$error":"#NAME?"}},{"$f":"PredShestProb(#REF!,$B$1,$A19,T$3)","v":{"$error":"#NAME?"}},{"$f":"PredShestProb(#REF!,$B$1,$A19,U$3)","v":{"$error":"#NAME?"}},{"$f":"PredShestProb(#REF!,$B$1,$A19,V$3)","v":{"$error":"#NAME?"}},{"$f":"PredShestProb(#REF!,$B$1,$A19,W$3)","v":{"$error":"#NAME?"}},{"$f":"PredShestProb(#REF!,$B$1,$A19,X$3)","v":{"$error":"#NAME?"}},{"$f":"PredShestProb(#REF!,$B$1,$A19,Y$3)","v":{"$error":"#NAME?"}},{"$f":"PredShestProb(#REF!,$B$1,$A19,Z$3)","v":{"$error":"#NAME?"}},{"$f":"PredShestProb(#REF!,$B$1,$A19,AA$3)","v":{"$error":"#NAME?"}}]
["Q",{"$f":"PredShestProb(#REF!,$B$1,$A20,B$3)","v":{"$error":"#NAME?"}},{"$f":"PredShestProb(#REF!,$B$1,$A20,C$3)","v":{"$error":"#NAME?"}},{"$f":"PredShestProb(#REF!,$B$1,$A20,D$3)","v":{"$error":"#NAME?"}},{"$f":"PredShestProb(#REF!,$B$1,$A20,E$3)","v":{"$error":"#NAME?"}},{"$f":"PredShestProb(#REF!,$B$1,$A20,F$3)","v":{"$error":"#NAME?"}},{"$f":"PredShestProb(#REF!,$B$1,$A20,G$3)","v":{"$error":"#NAME?"}},{"$f":"PredShestProb(#REF!,$B$1,$A20,H$3)","v":{"$error":"#NAME?"}},{"$f":"PredShestProb(#REF!,$B$1,$A20,I$3)","v":{"$error":"#NAME?"}},{"$f":"PredShestProb(#REF!,$B$1,$A20,J$3)","v":{"$error":"#NAME?"}},{"$f":"PredShestProb(#REF!,$B$1,$A20,K$3)","v":{"$error":"#NAME?"}},{"$f":"PredShestProb(#REF!,$B$1,$A20,L$3)","v":{"$error":"#NAME?"}},{"$f":"PredShestProb(#REF!,$B$1,$A20,M$3)","v":{"$error":"#NAME?"}},{"$f":"PredShestProb(#REF!,$B$1,$A20,N$3)","v":{"$error":"#NAME?"}},{"$f":"PredShestProb(#REF!,$B$1,$A20,O$3)","v":{"$error":"#NAME?"}},{"$f":"PredShestProb(#REF!,$B$1,$A20,P$3)","v":{"$error":"#NAME?"}},{"$f":"PredShestProb(#REF!,$B$1,$A20,Q$3)","v":{"$error":"#NAME?"}},{"$f":"PredShestProb(#REF!,$B$1,$A20,R$3)","v":{"$error":"#NAME?"}},{"$f":"PredShestProb(#REF!,$B$1,$A20,S$3)","v":{"$error":"#NAME?"}},{"$f":"PredShestProb(#REF!,$B$1,$A20,T$3)","v":{"$error":"#NAME?"}},{"$f":"PredShestProb(#REF!,$B$1,$A20,U$3)","v":{"$error":"#NAME?"}},{"$f":"PredShestProb(#REF!,$B$1,$A20,V$3)","v":{"$error":"#NAME?"}},{"$f":"PredShestProb(#REF!,$B$1,$A20,W$3)","v":{"$error":"#NAME?"}},{"$f":"PredShestProb(#REF!,$B$1,$A20,X$3)","v":{"$error":"#NAME?"}},{"$f":"PredShestProb(#REF!,$B$1,$A20,Y$3)","v":{"$error":"#NAME?"}},{"$f":"PredShestProb(#REF!,$B$1,$A20,Z$3)","v":{"$error":"#NAME?"}},{"$f":"PredShestProb(#REF!,$B$1,$A20,AA$3)","v":{"$error":"#NAME?"}}]
["R",{"$f":"PredShestProb(#REF!,$B$1,$A21,B$3)","v":{"$error":"#NAME?"}},{"$f":"PredShestProb(#REF!,$B$1,$A21,C$3)","v":{"$error":"#NAME?"}},{"$f":"PredShestProb(#REF!,$B$1,$A21,D$3)","v":{"$error":"#NAME?"}},{"$f":"PredShestProb(#REF!,$B$1,$A21,E$3)","v":{"$error":"#NAME?"}},{"$f":"PredShestProb(#REF!,$B$1,$A21,F$3)","v":{"$error":"#NAME?"}},{"$f":"PredShestProb(#REF!,$B$1,$A21,G$3)","v":{"$error":"#NAME?"}},{"$f":"PredShestProb(#REF!,$B$1,$A21,H$3)","v":{"$error":"#NAME?"}},{"$f":"PredShestProb(#REF!,$B$1,$A21,I$3)","v":{"$error":"#NAME?"}},{"$f":"PredShestProb(#REF!,$B$1,$A21,J$3)","v":{"$error":"#NAME?"}},{"$f":"PredShestProb(#REF!,$B$1,$A21,K$3)","v":{"$error":"#NAME?"}},{"$f":"PredShestProb(#REF!,$B$1,$A21,L$3)","v":{"$error":"#NAME?"}},{"$f":"PredShestProb(#REF!,$B$1,$A21,M$3)","v":{"$error":"#NAME?"}},{"$f":"PredShestProb(#REF!,$B$1,$A21,N$3)","v":{"$error":"#NAME?"}},{"$f":"PredShestProb(#REF!,$B$1,$A21,O$3)","v":{"$error":"#NAME?"}},{"$f":"PredShestProb(#REF!,$B$1,$A21,P$3)","v":{"$error":"#NAME?"}},{"$f":"PredShestProb(#REF!,$B$1,$A21,Q$3)","v":{"$error":"#NAME?"}},{"$f":"PredShestProb(#REF!,$B$1,$A21,R$3)","v":{"$error":"#NAME?"}},{"$f":"PredShestProb(#REF!,$B$1,$A21,S$3)","v":{"$error":"#NAME?"}},{"$f":"PredShestProb(#REF!,$B$1,$A21,T$3)","v":{"$error":"#NAME?"}},{"$f":"PredShestProb(#REF!,$B$1,$A21,U$3)","v":{"$error":"#NAME?"}},{"$f":"PredShestProb(#REF!,$B$1,$A21,V$3)","v":{"$error":"#NAME?"}},{"$f":"PredShestProb(#REF!,$B$1,$A21,W$3)","v":{"$error":"#NAME?"}},{"$f":"PredShestProb(#REF!,$B$1,$A21,X$3)","v":{"$error":"#NAME?"}},{"$f":"PredShestProb(#REF!,$B$1,$A21,Y$3)","v":{"$error":"#NAME?"}},{"$f":"PredShestProb(#REF!,$B$1,$A21,Z$3)","v":{"$error":"#NAME?"}},{"$f":"PredShestProb(#REF!,$B$1,$A21,AA$3)","v":{"$error":"#NAME?"}}]
["S",{"$f":"PredShestProb(#REF!,$B$1,$A22,B$3)","v":{"$error":"#NAME?"}},{"$f":"PredShestProb(#REF!,$B$1,$A22,C$3)","v":{"$error":"#NAME?"}},{"$f":"PredShestProb(#REF!,$B$1,$A22,D$3)","v":{"$error":"#NAME?"}},{"$f":"PredShestProb(#REF!,$B$1,$A22,E$3)","v":{"$error":"#NAME?"}},{"$f":"PredShestProb(#REF!,$B$1,$A22,F$3)","v":{"$error":"#NAME?"}},{"$f":"PredShestProb(#REF!,$B$1,$A22,G$3)","v":{"$error":"#NAME?"}},{"$f":"PredShestProb(#REF!,$B$1,$A22,H$3)","v":{"$error":"#NAME?"}},{"$f":"PredShestProb(#REF!,$B$1,$A22,I$3)","v":{"$error":"#NAME?"}},{"$f":"PredShestProb(#REF!,$B$1,$A22,J$3)","v":{"$error":"#NAME?"}},{"$f":"PredShestProb(#REF!,$B$1,$A22,K$3)","v":{"$error":"#NAME?"}},{"$f":"PredShestProb(#REF!,$B$1,$A22,L$3)","v":{"$error":"#NAME?"}},{"$f":"PredShestProb(#REF!,$B$1,$A22,M$3)","v":{"$error":"#NAME?"}},{"$f":"PredShestProb(#REF!,$B$1,$A22,N$3)","v":{"$error":"#NAME?"}},{"$f":"PredShestProb(#REF!,$B$1,$A22,O$3)","v":{"$error":"#NAME?"}},{"$f":"PredShestProb(#REF!,$B$1,$A22,P$3)","v":{"$error":"#NAME?"}},{"$f":"PredShestProb(#REF!,$B$1,$A22,Q$3)","v":{"$error":"#NAME?"}},{"$f":"PredShestProb(#REF!,$B$1,$A22,R$3)","v":{"$error":"#NAME?"}},{"$f":"PredShestProb(#REF!,$B$1,$A22,S$3)","v":{"$error":"#NAME?"}},{"$f":"PredShestProb(#REF!,$B$1,$A22,T$3)","v":{"$error":"#NAME?"}},{"$f":"PredShestProb(#REF!,$B$1,$A22,U$3)","v":{"$error":"#NAME?"}},{"$f":"PredShestProb(#REF!,$B$1,$A22,V$3)","v":{"$error":"#NAME?"}},{"$f":"PredShestProb(#REF!,$B$1,$A22,W$3)","v":{"$error":"#NAME?"}},{"$f":"PredShestProb(#REF!,$B$1,$A22,X$3)","v":{"$error":"#NAME?"}},{"$f":"PredShestProb(#REF!,$B$1,$A22,Y$3)","v":{"$error":"#NAME?"}},{"$f":"PredShestProb(#REF!,$B$1,$A22,Z$3)","v":{"$error":"#NAME?"}},{"$f":"PredShestProb(#REF!,$B$1,$A22,AA$3)","v":{"$error":"#NAME?"}}]
["T",{"$f":"PredShestProb(#REF!,$B$1,$A23,B$3)","v":{"$error":"#NAME?"}},{"$f":"PredShestProb(#REF!,$B$1,$A23,C$3)","v":{"$error":"#NAME?"}},{"$f":"PredShestProb(#REF!,$B$1,$A23,D$3)","v":{"$error":"#NAME?"}},{"$f":"PredShestProb(#REF!,$B$1,$A23,E$3)","v":{"$error":"#NAME?"}},{"$f":"PredShestProb(#REF!,$B$1,$A23,F$3)","v":{"$error":"#NAME?"}},{"$f":"PredShestProb(#REF!,$B$1,$A23,G$3)","v":{"$error":"#NAME?"}},{"$f":"PredShestProb(#REF!,$B$1,$A23,H$3)","v":{"$error":"#NAME?"}},{"$f":"PredShestProb(#REF!,$B$1,$A23,I$3)","v":{"$error":"#NAME?"}},{"$f":"PredShestProb(#REF!,$B$1,$A23,J$3)","v":{"$error":"#NAME?"}},{"$f":"PredShestProb(#REF!,$B$1,$A23,K$3)","v":{"$error":"#NAME?"}},{"$f":"PredShestProb(#REF!,$B$1,$A23,L$3)","v":{"$error":"#NAME?"}},{"$f":"PredShestProb(#REF!,$B$1,$A23,M$3)","v":{"$error":"#NAME?"}},{"$f":"PredShestProb(#REF!,$B$1,$A23,N$3)","v":{"$error":"#NAME?"}},{"$f":"PredShestProb(#REF!,$B$1,$A23,O$3)","v":{"$error":"#NAME?"}},{"$f":"PredShestProb(#REF!,$B$1,$A23,P$3)","v":{"$error":"#NAME?"}},{"$f":"PredShestProb(#REF!,$B$1,$A23,Q$3)","v":{"$error":"#NAME?"}},{"$f":"PredShestProb(#REF!,$B$1,$A23,R$3)","v":{"$error":"#NAME?"}},{"$f":"PredShestProb(#REF!,$B$1,$A23,S$3)","v":{"$error":"#NAME?"}},{"$f":"PredShestProb(#REF!,$B$1,$A23,T$3)","v":{"$error":"#NAME?"}},{"$f":"PredShestProb(#REF!,$B$1,$A23,U$3)","v":{"$error":"#NAME?"}},{"$f":"PredShestProb(#REF!,$B$1,$A23,V$3)","v":{"$error":"#NAME?"}},{"$f":"PredShestProb(#REF!,$B$1,$A23,W$3)","v":{"$error":"#NAME?"}},{"$f":"PredShestProb(#REF!,$B$1,$A23,X$3)","v":{"$error":"#NAME?"}},{"$f":"PredShestProb(#REF!,$B$1,$A23,Y$3)","v":{"$error":"#NAME?"}},{"$f":"PredShestProb(#REF!,$B$1,$A23,Z$3)","v":{"$error":"#NAME?"}},{"$f":"PredShestProb(#REF!,$B$1,$A23,AA$3)","v":{"$error":"#NAME?"}}]
["U",{"$f":"PredShestProb(#REF!,$B$1,$A24,B$3)","v":{"$error":"#NAME?"}},{"$f":"PredShestProb(#REF!,$B$1,$A24,C$3)","v":{"$error":"#NAME?"}},{"$f":"PredShestProb(#REF!,$B$1,$A24,D$3)","v":{"$error":"#NAME?"}},{"$f":"PredShestProb(#REF!,$B$1,$A24,E$3)","v":{"$error":"#NAME?"}},{"$f":"PredShestProb(#REF!,$B$1,$A24,F$3)","v":{"$error":"#NAME?"}},{"$f":"PredShestProb(#REF!,$B$1,$A24,G$3)","v":{"$error":"#NAME?"}},{"$f":"PredShestProb(#REF!,$B$1,$A24,H$3)","v":{"$error":"#NAME?"}},{"$f":"PredShestProb(#REF!,$B$1,$A24,I$3)","v":{"$error":"#NAME?"}},{"$f":"PredShestProb(#REF!,$B$1,$A24,J$3)","v":{"$error":"#NAME?"}},{"$f":"PredShestProb(#REF!,$B$1,$A24,K$3)","v":{"$error":"#NAME?"}},{"$f":"PredShestProb(#REF!,$B$1,$A24,L$3)","v":{"$error":"#NAME?"}},{"$f":"PredShestProb(#REF!,$B$1,$A24,M$3)","v":{"$error":"#NAME?"}},{"$f":"PredShestProb(#REF!,$B$1,$A24,N$3)","v":{"$error":"#NAME?"}},{"$f":"PredShestProb(#REF!,$B$1,$A24,O$3)","v":{"$error":"#NAME?"}},{"$f":"PredShestProb(#REF!,$B$1,$A24,P$3)","v":{"$error":"#NAME?"}},{"$f":"PredShestProb(#REF!,$B$1,$A24,Q$3)","v":{"$error":"#NAME?"}},{"$f":"PredShestProb(#REF!,$B$1,$A24,R$3)","v":{"$error":"#NAME?"}},{"$f":"PredShestProb(#REF!,$B$1,$A24,S$3)","v":{"$error":"#NAME?"}},{"$f":"PredShestProb(#REF!,$B$1,$A24,T$3)","v":{"$error":"#NAME?"}},{"$f":"PredShestProb(#REF!,$B$1,$A24,U$3)","v":{"$error":"#NAME?"}},{"$f":"PredShestProb(#REF!,$B$1,$A24,V$3)","v":{"$error":"#NAME?"}},{"$f":"PredShestProb(#REF!,$B$1,$A24,W$3)","v":{"$error":"#NAME?"}},{"$f":"PredShestProb(#REF!,$B$1,$A24,X$3)","v":{"$error":"#NAME?"}},{"$f":"PredShestProb(#REF!,$B$1,$A24,Y$3)","v":{"$error":"#NAME?"}},{"$f":"PredShestProb(#REF!,$B$1,$A24,Z$3)","v":{"$error":"#NAME?"}},{"$f":"PredShestProb(#REF!,$B$1,$A24,AA$3)","v":{"$error":"#NAME?"}}]
["V",{"$f":"PredShestProb(#REF!,$B$1,$A25,B$3)","v":{"$error":"#NAME?"}},{"$f":"PredShestProb(#REF!,$B$1,$A25,C$3)","v":{"$error":"#NAME?"}},{"$f":"PredShestProb(#REF!,$B$1,$A25,D$3)","v":{"$error":"#NAME?"}},{"$f":"PredShestProb(#REF!,$B$1,$A25,E$3)","v":{"$error":"#NAME?"}},{"$f":"PredShestProb(#REF!,$B$1,$A25,F$3)","v":{"$error":"#NAME?"}},{"$f":"PredShestProb(#REF!,$B$1,$A25,G$3)","v":{"$error":"#NAME?"}},{"$f":"PredShestProb(#REF!,$B$1,$A25,H$3)","v":{"$error":"#NAME?"}},{"$f":"PredShestProb(#REF!,$B$1,$A25,I$3)","v":{"$error":"#NAME?"}},{"$f":"PredShestProb(#REF!,$B$1,$A25,J$3)","v":{"$error":"#NAME?"}},{"$f":"PredShestProb(#REF!,$B$1,$A25,K$3)","v":{"$error":"#NAME?"}},{"$f":"PredShestProb(#REF!,$B$1,$A25,L$3)","v":{"$error":"#NAME?"}},{"$f":"PredShestProb(#REF!,$B$1,$A25,M$3)","v":{"$error":"#NAME?"}},{"$f":"PredShestProb(#REF!,$B$1,$A25,N$3)","v":{"$error":"#NAME?"}},{"$f":"PredShestProb(#REF!,$B$1,$A25,O$3)","v":{"$error":"#NAME?"}},{"$f":"PredShestProb(#REF!,$B$1,$A25,P$3)","v":{"$error":"#NAME?"}},{"$f":"PredShestProb(#REF!,$B$1,$A25,Q$3)","v":{"$error":"#NAME?"}},{"$f":"PredShestProb(#REF!,$B$1,$A25,R$3)","v":{"$error":"#NAME?"}},{"$f":"PredShestProb(#REF!,$B$1,$A25,S$3)","v":{"$error":"#NAME?"}},{"$f":"PredShestProb(#REF!,$B$1,$A25,T$3)","v":{"$error":"#NAME?"}},{"$f":"PredShestProb(#REF!,$B$1,$A25,U$3)","v":{"$error":"#NAME?"}},{"$f":"PredShestProb(#REF!,$B$1,$A25,V$3)","v":{"$error":"#NAME?"}},{"$f":"PredShestProb(#REF!,$B$1,$A25,W$3)","v":{"$error":"#NAME?"}},{"$f":"PredShestProb(#REF!,$B$1,$A25,X$3)","v":{"$error":"#NAME?"}},{"$f":"PredShestProb(#REF!,$B$1,$A25,Y$3)","v":{"$error":"#NAME?"}},{"$f":"PredShestProb(#REF!,$B$1,$A25,Z$3)","v":{"$error":"#NAME?"}},{"$f":"PredShestProb(#REF!,$B$1,$A25,AA$3)","v":{"$error":"#NAME?"}}]
["W",{"$f":"PredShestProb(#REF!,$B$1,$A26,B$3)","v":{"$error":"#NAME?"}},{"$f":"PredShestProb(#REF!,$B$1,$A26,C$3)","v":{"$error":"#NAME?"}},{"$f":"PredShestProb(#REF!,$B$1,$A26,D$3)","v":{"$error":"#NAME?"}},{"$f":"PredShestProb(#REF!,$B$1,$A26,E$3)","v":{"$error":"#NAME?"}},{"$f":"PredShestProb(#REF!,$B$1,$A26,F$3)","v":{"$error":"#NAME?"}},{"$f":"PredShestProb(#REF!,$B$1,$A26,G$3)","v":{"$error":"#NAME?"}},{"$f":"PredShestProb(#REF!,$B$1,$A26,H$3)","v":{"$error":"#NAME?"}},{"$f":"PredShestProb(#REF!,$B$1,$A26,I$3)","v":{"$error":"#NAME?"}},{"$f":"PredShestProb(#REF!,$B$1,$A26,J$3)","v":{"$error":"#NAME?"}},{"$f":"PredShestProb(#REF!,$B$1,$A26,K$3)","v":{"$error":"#NAME?"}},{"$f":"PredShestProb(#REF!,$B$1,$A26,L$3)","v":{"$error":"#NAME?"}},{"$f":"PredShestProb(#REF!,$B$1,$A26,M$3)","v":{"$error":"#NAME?"}},{"$f":"PredShestProb(#REF!,$B$1,$A26,N$3)","v":{"$error":"#NAME?"}},{"$f":"PredShestProb(#REF!,$B$1,$A26,O$3)","v":{"$error":"#NAME?"}},{"$f":"PredShestProb(#REF!,$B$1,$A26,P$3)","v":{"$error":"#NAME?"}},{"$f":"PredShestProb(#REF!,$B$1,$A26,Q$3)","v":{"$error":"#NAME?"}},{"$f":"PredShestProb(#REF!,$B$1,$A26,R$3)","v":{"$error":"#NAME?"}},{"$f":"PredShestProb(#REF!,$B$1,$A26,S$3)","v":{"$error":"#NAME?"}},{"$f":"PredShestProb(#REF!,$B$1,$A26,T$3)","v":{"$error":"#NAME?"}},{"$f":"PredShestProb(#REF!,$B$1,$A26,U$3)","v":{"$error":"#NAME?"}},{"$f":"PredShestProb(#REF!,$B$1,$A26,V$3)","v":{"$error":"#NAME?"}},{"$f":"PredShestProb(#REF!,$B$1,$A26,W$3)","v":{"$error":"#NAME?"}},{"$f":"PredShestProb(#REF!,$B$1,$A26,X$3)","v":{"$error":"#NAME?"}},{"$f":"PredShestProb(#REF!,$B$1,$A26,Y$3)","v":{"$error":"#NAME?"}},{"$f":"PredShestProb(#REF!,$B$1,$A26,Z$3)","v":{"$error":"#NAME?"}},{"$f":"PredShestProb(#REF!,$B$1,$A26,AA$3)","v":{"$error":"#NAME?"}}]
["X",{"$f":"PredShestProb(#REF!,$B$1,$A27,B$3)","v":{"$error":"#NAME?"}},{"$f":"PredShestProb(#REF!,$B$1,$A27,C$3)","v":{"$error":"#NAME?"}},{"$f":"PredShestProb(#REF!,$B$1,$A27,D$3)","v":{"$error":"#NAME?"}},{"$f":"PredShestProb(#REF!,$B$1,$A27,E$3)","v":{"$error":"#NAME?"}},{"$f":"PredShestProb(#REF!,$B$1,$A27,F$3)","v":{"$error":"#NAME?"}},{"$f":"PredShestProb(#REF!,$B$1,$A27,G$3)","v":{"$error":"#NAME?"}},{"$f":"PredShestProb(#REF!,$B$1,$A27,H$3)","v":{"$error":"#NAME?"}},{"$f":"PredShestProb(#REF!,$B$1,$A27,I$3)","v":{"$error":"#NAME?"}},{"$f":"PredShestProb(#REF!,$B$1,$A27,J$3)","v":{"$error":"#NAME?"}},{"$f":"PredShestProb(#REF!,$B$1,$A27,K$3)","v":{"$error":"#NAME?"}},{"$f":"PredShestProb(#REF!,$B$1,$A27,L$3)","v":{"$error":"#NAME?"}},{"$f":"PredShestProb(#REF!,$B$1,$A27,M$3)","v":{"$error":"#NAME?"}},{"$f":"PredShestProb(#REF!,$B$1,$A27,N$3)","v":{"$error":"#NAME?"}},{"$f":"PredShestProb(#REF!,$B$1,$A27,O$3)","v":{"$error":"#NAME?"}},{"$f":"PredShestProb(#REF!,$B$1,$A27,P$3)","v":{"$error":"#NAME?"}},{"$f":"PredShestProb(#REF!,$B$1,$A27,Q$3)","v":{"$error":"#NAME?"}},{"$f":"PredShestProb(#REF!,$B$1,$A27,R$3)","v":{"$error":"#NAME?"}},{"$f":"PredShestProb(#REF!,$B$1,$A27,S$3)","v":{"$error":"#NAME?"}},{"$f":"PredShestProb(#REF!,$B$1,$A27,T$3)","v":{"$error":"#NAME?"}},{"$f":"PredShestProb(#REF!,$B$1,$A27,U$3)","v":{"$error":"#NAME?"}},{"$f":"PredShestProb(#REF!,$B$1,$A27,V$3)","v":{"$error":"#NAME?"}},{"$f":"PredShestProb(#REF!,$B$1,$A27,W$3)","v":{"$error":"#NAME?"}},{"$f":"PredShestProb(#REF!,$B$1,$A27,X$3)","v":{"$error":"#NAME?"}},{"$f":"PredShestProb(#REF!,$B$1,$A27,Y$3)","v":{"$error":"#NAME?"}},{"$f":"PredShestProb(#REF!,$B$1,$A27,Z$3)","v":{"$error":"#NAME?"}},{"$f":"PredShestProb(#REF!,$B$1,$A27,AA$3)","v":{"$error":"#NAME?"}}]
["Y",{"$f":"PredShestProb(#REF!,$B$1,$A28,B$3)","v":{"$error":"#NAME?"}},{"$f":"PredShestProb(#REF!,$B$1,$A28,C$3)","v":{"$error":"#NAME?"}},{"$f":"PredShestProb(#REF!,$B$1,$A28,D$3)","v":{"$error":"#NAME?"}},{"$f":"PredShestProb(#REF!,$B$1,$A28,E$3)","v":{"$error":"#NAME?"}},{"$f":"PredShestProb(#REF!,$B$1,$A28,F$3)","v":{"$error":"#NAME?"}},{"$f":"PredShestProb(#REF!,$B$1,$A28,G$3)","v":{"$error":"#NAME?"}},{"$f":"PredShestProb(#REF!,$B$1,$A28,H$3)","v":{"$error":"#NAME?"}},{"$f":"PredShestProb(#REF!,$B$1,$A28,I$3)","v":{"$error":"#NAME?"}},{"$f":"PredShestProb(#REF!,$B$1,$A28,J$3)","v":{"$error":"#NAME?"}},{"$f":"PredShestProb(#REF!,$B$1,$A28,K$3)","v":{"$error":"#NAME?"}},{"$f":"PredShestProb(#REF!,$B$1,$A28,L$3)","v":{"$error":"#NAME?"}},{"$f":"PredShestProb(#REF!,$B$1,$A28,M$3)","v":{"$error":"#NAME?"}},{"$f":"PredShestProb(#REF!,$B$1,$A28,N$3)","v":{"$error":"#NAME?"}},{"$f":"PredShestProb(#REF!,$B$1,$A28,O$3)","v":{"$error":"#NAME?"}},{"$f":"PredShestProb(#REF!,$B$1,$A28,P$3)","v":{"$error":"#NAME?"}},{"$f":"PredShestProb(#REF!,$B$1,$A28,Q$3)","v":{"$error":"#NAME?"}},{"$f":"PredShestProb(#REF!,$B$1,$A28,R$3)","v":{"$error":"#NAME?"}},{"$f":"PredShestProb(#REF!,$B$1,$A28,S$3)","v":{"$error":"#NAME?"}},{"$f":"PredShestProb(#REF!,$B$1,$A28,T$3)","v":{"$error":"#NAME?"}},{"$f":"PredShestProb(#REF!,$B$1,$A28,U$3)","v":{"$error":"#NAME?"}},{"$f":"PredShestProb(#REF!,$B$1,$A28,V$3)","v":{"$error":"#NAME?"}},{"$f":"PredShestProb(#REF!,$B$1,$A28,W$3)","v":{"$error":"#NAME?"}},{"$f":"PredShestProb(#REF!,$B$1,$A28,X$3)","v":{"$error":"#NAME?"}},{"$f":"PredShestProb(#REF!,$B$1,$A28,Y$3)","v":{"$error":"#NAME?"}},{"$f":"PredShestProb(#REF!,$B$1,$A28,Z$3)","v":{"$error":"#NAME?"}},{"$f":"PredShestProb(#REF!,$B$1,$A28,AA$3)","v":{"$error":"#NAME?"}}]
["Z",{"$f":"PredShestProb(#REF!,$B$1,$A29,B$3)","v":{"$error":"#NAME?"}},{"$f":"PredShestProb(#REF!,$B$1,$A29,C$3)","v":{"$error":"#NAME?"}},{"$f":"PredShestProb(#REF!,$B$1,$A29,D$3)","v":{"$error":"#NAME?"}},{"$f":"PredShestProb(#REF!,$B$1,$A29,E$3)","v":{"$error":"#NAME?"}},{"$f":"PredShestProb(#REF!,$B$1,$A29,F$3)","v":{"$error":"#NAME?"}},{"$f":"PredShestProb(#REF!,$B$1,$A29,G$3)","v":{"$error":"#NAME?"}},{"$f":"PredShestProb(#REF!,$B$1,$A29,H$3)","v":{"$error":"#NAME?"}},{"$f":"PredShestProb(#REF!,$B$1,$A29,I$3)","v":{"$error":"#NAME?"}},{"$f":"PredShestProb(#REF!,$B$1,$A29,J$3)","v":{"$error":"#NAME?"}},{"$f":"PredShestProb(#REF!,$B$1,$A29,K$3)","v":{"$error":"#NAME?"}},{"$f":"PredShestProb(#REF!,$B$1,$A29,L$3)","v":{"$error":"#NAME?"}},{"$f":"PredShestProb(#REF!,$B$1,$A29,M$3)","v":{"$error":"#NAME?"}},{"$f":"PredShestProb(#REF!,$B$1,$A29,N$3)","v":{"$error":"#NAME?"}},{"$f":"PredShestProb(#REF!,$B$1,$A29,O$3)","v":{"$error":"#NAME?"}},{"$f":"PredShestProb(#REF!,$B$1,$A29,P$3)","v":{"$error":"#NAME?"}},{"$f":"PredShestProb(#REF!,$B$1,$A29,Q$3)","v":{"$error":"#NAME?"}},{"$f":"PredShestProb(#REF!,$B$1,$A29,R$3)","v":{"$error":"#NAME?"}},{"$f":"PredShestProb(#REF!,$B$1,$A29,S$3)","v":{"$error":"#NAME?"}},{"$f":"PredShestProb(#REF!,$B$1,$A29,T$3)","v":{"$error":"#NAME?"}},{"$f":"PredShestProb(#REF!,$B$1,$A29,U$3)","v":{"$error":"#NAME?"}},{"$f":"PredShestProb(#REF!,$B$1,$A29,V$3)","v":{"$error":"#NAME?"}},{"$f":"PredShestProb(#REF!,$B$1,$A29,W$3)","v":{"$error":"#NAME?"}},{"$f":"PredShestProb(#REF!,$B$1,$A29,X$3)","v":{"$error":"#NAME?"}},{"$f":"PredShestProb(#REF!,$B$1,$A29,Y$3)","v":{"$error":"#NAME?"}},{"$f":"PredShestProb(#REF!,$B$1,$A29,Z$3)","v":{"$error":"#NAME?"}},{"$f":"PredShestProb(#REF!,$B$1,$A29,AA$3)","v":{"$error":"#NAME?"}}]

{"sheet":"CPM-Deterministic","index":2,"n_rows":29,"n_cols":12,"rows_kept":29,"merged":[[0,0,0,3],[0,5,0,6],[1,5,1,6]]}
["CPM - Deterministic",{"$nulls":4},"Length of Project =",null,{"$f":"MAX(J4:J29)","v":{"$error":"#NAME?"}}]
[{"$nulls":5},"Number of\nCritical Path(s) =",null,{"$f":"NumberCriticalPath(C4:C29,G4:G29,Table!B1,H1)","v":{"$error":"#NAME?"}}]
["Activity Name","Description","Time","Predecessor",null,"Activity Name","On Critical Path","Earliest Start","Latest Start","Earliest Finish","Latest Finish","Slack (LS-ES)"]
["A"," (not applicable)",4,null,null,"A",{"$f":"CriticalPath(L4)","v":{"$error":"#NAME?"}},{"$f":"ES(F4,Table!$B$1,D4,$J$4,Table!$B$4)","v":{"$error":"#NAME?"}},{"$f":"LS(K4,C4)","v":{"$error":"#NAME?"}},{"$f":"EF(H4,C4)","v":{"$error":"#NAME?"}},{"$f":"LF(F4, Table!$B$1, Table!$B$4)","v":{"$error":"#NAME?"}},{"$f":"Slack(I4,H4)","v":{"$error":"#NAME?"}}]
["B",null,16,null,null,"B",{"$f":"CriticalPath(L5)","v":{"$error":"#NAME?"}},{"$f":"ES(F5,Table!$B$1,D5,$J$4,Table!$B$4)","v":{"$error":"#NAME?"}},{"$f":"LS(K5,C5)","v":{"$error":"#NAME?"}},{"$f":"EF(H5,C5)","v":{"$error":"#NAME?"}},{"$f":"LF(F5, Table!$B$1, Table!$B$4)","v":{"$error":"#NAME?"}},{"$f":"Slack(I5,H5)","v":{"$error":"#NAME?"}}]
["C",null,8,"A,B",null,"C",{"$error":"#NAME?"},{"$f":"ES(F6,Table!$B$1,D6,$J$4,Table!$B$4)","v":{"$error":"#NAME?"}},{"$error":"#NAME?"},{"$error":"#NAME?"},{"$f":"LF(F6, Table!$B$1, Table!$B$4)","v":{"$error":"#NAME?"}},{"$error":"#NAME?"}]
["D",null,24,"C",null,"D",{"$error":"#NAME?"},{"$f":"ES(F7,Table!$B$1,D7,$J$4,Table!$B$4)","v":{"$error":"#NAME?"}},{"$error":"#NAME?"},{"$error":"#NAME?"},{"$f":"LF(F7, Table!$B$1, Table!$B$4)","v":{"$error":"#NAME?"}},{"$error":"#NAME?"}]
["E",null,28,"C",null,"E",{"$error":"#NAME?"},{"$f":"ES(F8,Table!$B$1,D8,$J$4,Table!$B$4)","v":{"$error":"#NAME?"}},{"$error":"#NAME?"},{"$error":"#NAME?"},{"$f":"LF(F8, Table!$B$1, Table!$B$4)","v":{"$error":"#NAME?"}},{"$error":"#NAME?"}]
["F",null,4,"D,E",null,"F",{"$error":"#NAME?"},{"$f":"ES(F9,Table!$B$1,D9,$J$4,Table!$B$4)","v":{"$error":"#NAME?"}},{"$error":"#NAME?"},{"$error":"#NAME?"},{"$f":"LF(F9, Table!$B$1, Table!$B$4)","v":{"$error":"#NAME?"}},{"$error":"#NAME?"}]
["G",null,8,"D,E",null,"G",{"$error":"#NAME?"},{"$f":"ES(F10,Table!$B$1,D10,$J$4,Table!$B$4)","v":{"$error":"#NAME?"}},{"$error":"#NAME?"},{"$error":"#NAME?"},{"$f":"LF(F10, Table!$B$1, Table!$B$4)","v":{"$error":"#NAME?"}},{"$error":"#NAME?"}]
["H",null,4,"F,G",null,"H",{"$error":"#NAME?"},{"$f":"ES(F11,Table!$B$1,D11,$J$4,Table!$B$4)","v":{"$error":"#NAME?"}},{"$error":"#NAME?"},{"$error":"#NAME?"},{"$f":"LF(F11, Table!$B$1, Table!$B$4)","v":{"$error":"#NAME?"}},{"$error":"#NAME?"}]
["I",{"$nulls":4},"I",{"$error":"#NAME?"},{"$f":"ES(F12,Table!$B$1,D12,$J$4,Table!$B$4)","v":{"$error":"#NAME?"}},{"$f":"LS(K12,C12)","v":{"$error":"#NAME?"}},{"$error":"#NAME?"},{"$f":"LF(F12, Table!$B$1, Table!$B$4)","v":{"$error":"#NAME?"}},{"$error":"#NAME?"}]
["J",{"$nulls":4},"J",{"$error":"#NAME?"},{"$f":"ES(F13,Table!$B$1,D13,$J$4,Table!$B$4)","v":{"$error":"#NAME?"}},{"$error":"#NAME?"},{"$error":"#NAME?"},{"$f":"LF(F13, Table!$B$1, Table!$B$4)","v":{"$error":"#NAME?"}},{"$error":"#NAME?"}]
["K",{"$nulls":4},"K",{"$error":"#NAME?"},{"$f":"ES(F14,Table!$B$1,D14,$J$4,Table!$B$4)","v":{"$error":"#NAME?"}},{"$error":"#NAME?"},{"$error":"#NAME?"},{"$f":"LF(F14, Table!$B$1, Table!$B$4)","v":{"$error":"#NAME?"}},{"$error":"#NAME?"}]
["L",{"$nulls":4},"L",{"$error":"#NAME?"},{"$f":"ES(F15,Table!$B$1,D15,$J$4,Table!$B$4)","v":{"$error":"#NAME?"}},{"$error":"#NAME?"},{"$error":"#NAME?"},{"$f":"LF(F15, Table!$B$1, Table!$B$4)","v":{"$error":"#NAME?"}},{"$error":"#NAME?"}]
["M",{"$nulls":4},"M",{"$error":"#NAME?"},{"$f":"ES(F16,Table!$B$1,D16,$J$4,Table!$B$4)","v":{"$error":"#NAME?"}},{"$error":"#NAME?"},{"$error":"#NAME?"},{"$f":"LF(F16, Table!$B$1, Table!$B$4)","v":{"$error":"#NAME?"}},{"$error":"#NAME?"}]
["N",{"$nulls":4},"N",{"$error":"#NAME?"},{"$f":"ES(F17,Table!$B$1,D17,$J$4,Table!$B$4)","v":{"$error":"#NAME?"}},{"$error":"#NAME?"},{"$error":"#NAME?"},{"$f":"LF(F17, Table!$B$1, Table!$B$4)","v":{"$error":"#NAME?"}},{"$error":"#NAME?"}]
["O",{"$nulls":4},"O",{"$error":"#NAME?"},{"$f":"ES(F18,Table!$B$1,D18,$J$4,Table!$B$4)","v":{"$error":"#NAME?"}},{"$error":"#NAME?"},{"$error":"#NAME?"},{"$f":"LF(F18, Table!$B$1, Table!$B$4)","v":{"$error":"#NAME?"}},{"$error":"#NAME?"}]
["P",{"$nulls":4},"P",{"$error":"#NAME?"},{"$f":"ES(F19,Table!$B$1,D19,$J$4,Table!$B$4)","v":{"$error":"#NAME?"}},{"$error":"#NAME?"},{"$error":"#NAME?"},{"$f":"LF(F19, Table!$B$1, Table!$B$4)","v":{"$error":"#NAME?"}},{"$error":"#NAME?"}]
["Q",{"$nulls":4},"Q",{"$error":"#NAME?"},{"$f":"ES(F20,Table!$B$1,D20,$J$4,Table!$B$4)","v":{"$error":"#NAME?"}},{"$error":"#NAME?"},{"$error":"#NAME?"},{"$f":"LF(F20, Table!$B$1, Table!$B$4)","v":{"$error":"#NAME?"}},{"$error":"#NAME?"}]
["R",{"$nulls":4},"R",{"$error":"#NAME?"},{"$f":"ES(F21,Table!$B$1,D21,$J$4,Table!$B$4)","v":{"$error":"#NAME?"}},{"$error":"#NAME?"},{"$error":"#NAME?"},{"$f":"LF(F21, Table!$B$1, Table!$B$4)","v":{"$error":"#NAME?"}},{"$error":"#NAME?"}]
["S",{"$nulls":4},"S",{"$error":"#NAME?"},{"$f":"ES(F22,Table!$B$1,D22,$J$4,Table!$B$4)","v":{"$error":"#NAME?"}},{"$error":"#NAME?"},{"$error":"#NAME?"},{"$f":"LF(F22, Table!$B$1, Table!$B$4)","v":{"$error":"#NAME?"}},{"$error":"#NAME?"}]
["T",{"$nulls":4},"T",{"$error":"#NAME?"},{"$f":"ES(F23,Table!$B$1,D23,$J$4,Table!$B$4)","v":{"$error":"#NAME?"}},{"$error":"#NAME?"},{"$error":"#NAME?"},{"$f":"LF(F23, Table!$B$1, Table!$B$4)","v":{"$error":"#NAME?"}},{"$error":"#NAME?"}]
["U",{"$nulls":4},"U",{"$error":"#NAME?"},{"$f":"ES(F24,Table!$B$1,D24,$J$4,Table!$B$4)","v":{"$error":"#NAME?"}},{"$error":"#NAME?"},{"$error":"#NAME?"},{"$f":"LF(F24, Table!$B$1, Table!$B$4)","v":{"$error":"#NAME?"}},{"$error":"#NAME?"}]
["V",{"$nulls":4},"V",{"$error":"#NAME?"},{"$f":"ES(F25,Table!$B$1,D25,$J$4,Table!$B$4)","v":{"$error":"#NAME?"}},{"$error":"#NAME?"},{"$error":"#NAME?"},{"$f":"LF(F25, Table!$B$1, Table!$B$4)","v":{"$error":"#NAME?"}},{"$error":"#NAME?"}]
["W",{"$nulls":4},"W",{"$error":"#NAME?"},{"$f":"ES(F26,Table!$B$1,D26,$J$4,Table!$B$4)","v":{"$error":"#NAME?"}},{"$error":"#NAME?"},{"$error":"#NAME?"},{"$f":"LF(F26, Table!$B$1, Table!$B$4)","v":{"$error":"#NAME?"}},{"$error":"#NAME?"}]
["X",{"$nulls":4},"X",{"$error":"#NAME?"},{"$f":"ES(F27,Table!$B$1,D27,$J$4,Table!$B$4)","v":{"$error":"#NAME?"}},{"$error":"#NAME?"},{"$error":"#NAME?"},{"$f":"LF(F27, Table!$B$1, Table!$B$4)","v":{"$error":"#NAME?"}},{"$error":"#NAME?"}]
["Y",{"$nulls":4},"Y",{"$error":"#NAME?"},{"$f":"ES(F28,Table!$B$1,D28,$J$4,Table!$B$4)","v":{"$error":"#NAME?"}},{"$error":"#NAME?"},{"$error":"#NAME?"},{"$f":"LF(F28, Table!$B$1, Table!$B$4)","v":{"$error":"#NAME?"}},{"$error":"#NAME?"}]
["Z",{"$nulls":4},"Z",{"$error":"#NAME?"},{"$f":"ES(F29,Table!$B$1,D29,$J$4,Table!$B$4)","v":{"$error":"#NAME?"}},{"$error":"#NAME?"},{"$error":"#NAME?"},{"$f":"LF(F29, Table!$B$1, Table!$B$4)","v":{"$error":"#NAME?"}},{"$error":"#NAME?"}]